BEGIN:VCALENDAR
VERSION:2.0
PRODID:-//159.69.87.28//NONSGML kigkonsult.se iCalcreator 2.26.9//
CALSCALE:GREGORIAN
METHOD:PUBLISH
X-WR-CALNAME:F L I
X-WR-CALDESC:Fédération Luxembourgeoise d’Improvisation
X-FROM-URL:https://fli.lu
X-WR-TIMEZONE:Europe/Luxembourg
BEGIN:VTIMEZONE
TZID:Europe/Luxembourg
X-LIC-LOCATION:Europe/Luxembourg
BEGIN:STANDARD
DTSTART:20211031T030000
TZOFFSETFROM:+0200
TZOFFSETTO:+0100
RDATE:20221030T030000
TZNAME:CET
END:STANDARD
BEGIN:DAYLIGHT
DTSTART:20210328T020000
TZOFFSETFROM:+0100
TZOFFSETTO:+0200
RDATE:20220327T020000
TZNAME:CEST
END:DAYLIGHT
END:VTIMEZONE
BEGIN:VEVENT
UID:2ll4vjhf7lshk882genp14uks7@google.com
DTSTAMP:20210720T132414Z
CATEGORIES:
CONTACT:
DESCRIPTION:<p>Description<br />\nLa technique Meisner est une série d’exer
 cices conçus pour focaliser l’attention sur votre partenaire de jeu. L’int
 ention de Meisner était de transférer l’attention sur l’autre\, en vous an
 crant simultanément dans le moment présent. Plus tard\, il y ajouta un aut
 re ensemble d’exercices visant à aider l’acteur à comprendre le ressenti d
 e circonstances données procurées par le texte et par son metteur en scène
 . Enfin\, une série de techniques complémentaires permettent de redécouvri
 r les circonstances que vous êtes supposé(e) transmettre à un niveau organ
 ique.</p>\n<p>INFOS PRATIQUES<br />\nPublic cible du stage: perfectionneme
 nt pour comédiens et acteurs<br />\nLes 26 et 27 janvier 2018 à Hesperange
 <br />\nLangue: français (anglais)<br />\nRéservations : hello@FLI.lu<br /
 >\nTarif adhérent : 120€ (membre de la FLI)<br />\nTarif plein: 140€ (incl
 us cotisation 25€ à la FLI)<br />\nPré-inscription formelle: 25€ (non remb
 oursables)</p>
DTSTART;VALUE=DATE:20190126
DTEND;VALUE=DATE:20190128
LOCATION:Hesperange\, Luxembourg
SEQUENCE:0
SUMMARY:The Meisner Technique – Stage Keith Farquhar
END:VEVENT
END:VCALENDAR
