BEGIN:VCALENDAR
VERSION:2.0
PRODID:-//159.69.87.28//NONSGML kigkonsult.se iCalcreator 2.26.9//
CALSCALE:GREGORIAN
METHOD:PUBLISH
X-WR-CALNAME:F L I
X-WR-CALDESC:Fédération Luxembourgeoise d’Improvisation
X-FROM-URL:https://fli.lu
X-WR-TIMEZONE:Europe/Luxembourg
BEGIN:VTIMEZONE
TZID:Europe/Luxembourg
X-LIC-LOCATION:Europe/Luxembourg
BEGIN:STANDARD
DTSTART:20211031T030000
TZOFFSETFROM:+0200
TZOFFSETTO:+0100
RDATE:20221030T030000
TZNAME:CET
END:STANDARD
BEGIN:DAYLIGHT
DTSTART:20210328T020000
TZOFFSETFROM:+0100
TZOFFSETTO:+0200
RDATE:20220327T020000
TZNAME:CEST
END:DAYLIGHT
END:VTIMEZONE
BEGIN:VEVENT
UID:2mdn19jrk7d2lfeg6ntqk5imm5@google.com
DTSTAMP:20210720T132338Z
CATEGORIES:
CONTACT:
DESCRIPTION:
DTSTART;TZID=Europe/Luxembourg:20190330T090000
DTEND;TZID=Europe/Luxembourg:20190330T170000
LOCATION:474 Route de Thionville 5886 Alzingen (Hesperange)
SEQUENCE:0
SUMMARY:30 mars 2019 IMPROVISÉIEREN: A FIRWAT NET OP LËTZEBUERGESCH ?! – St
 age Fabiano TAVAN
END:VEVENT
END:VCALENDAR
