BEGIN:VCALENDAR
VERSION:2.0
PRODID:-//159.69.87.28//NONSGML kigkonsult.se iCalcreator 2.26.9//
CALSCALE:GREGORIAN
METHOD:PUBLISH
X-WR-CALNAME:F L I
X-WR-CALDESC:Fédération Luxembourgeoise d’Improvisation
X-FROM-URL:https://fli.lu
X-WR-TIMEZONE:Europe/Luxembourg
BEGIN:VTIMEZONE
TZID:Europe/Luxembourg
X-LIC-LOCATION:Europe/Luxembourg
BEGIN:STANDARD
DTSTART:20211031T030000
TZOFFSETFROM:+0200
TZOFFSETTO:+0100
RDATE:20221030T030000
TZNAME:CET
END:STANDARD
BEGIN:DAYLIGHT
DTSTART:20210328T020000
TZOFFSETFROM:+0100
TZOFFSETTO:+0200
RDATE:20220327T020000
TZNAME:CEST
END:DAYLIGHT
END:VTIMEZONE
BEGIN:VEVENT
UID:7k1mku9va4gsbhqoacuc028bfi@google.com
DTSTAMP:20210720T132326Z
CATEGORIES:
CONTACT:
DESCRIPTION:<p>Match à 20h\, ouverture des portes à 19h30. </p>\n<p>Réserva
 tions: leszhappy@yahoo.com ou par sms +32 0471 11 33 21</p>
DTSTART;TZID=Europe/Luxembourg:20190316T200000
DTEND;TZID=Europe/Luxembourg:20190316T230000
LOCATION:Salle l'Amicale\, Rue Sainte-Croix 16\, 6780 Messancy\, Belgique
SEQUENCE:0
SUMMARY:Les Zarel Zhappy / la Confrérire (Liège)
END:VEVENT
END:VCALENDAR
