BEGIN:VCALENDAR
VERSION:2.0
PRODID:-//159.69.87.28//NONSGML kigkonsult.se iCalcreator 2.26.9//
CALSCALE:GREGORIAN
METHOD:PUBLISH
X-WR-CALNAME:F L I
X-WR-CALDESC:Fédération Luxembourgeoise d’Improvisation
X-FROM-URL:https://fli.lu
X-WR-TIMEZONE:Europe/Luxembourg
BEGIN:VTIMEZONE
TZID:Europe/Luxembourg
X-LIC-LOCATION:Europe/Luxembourg
BEGIN:STANDARD
DTSTART:20211031T030000
TZOFFSETFROM:+0200
TZOFFSETTO:+0100
RDATE:20221030T030000
TZNAME:CET
END:STANDARD
BEGIN:DAYLIGHT
DTSTART:20210328T020000
TZOFFSETFROM:+0100
TZOFFSETTO:+0200
RDATE:20220327T020000
TZNAME:CEST
END:DAYLIGHT
END:VTIMEZONE
BEGIN:VEVENT
UID:6c1586msntuf23g9sggrdq1t69@google.com
DTSTAMP:20210720T132316Z
CATEGORIES:
CONTACT:
DESCRIPTION:Pour leur tout premier spectacle\, les Zarel Zhappy rencontrent
  les Épatés Gaumais !\nNous vous attendons nombreux pour faire de cette pr
 emière un événement inoubliable !\nPAF: 6€  adutles \, 3€ enfants\nLe spec
 tacle commencera à 20h\, ouverture des portes à 19h30. \nRéservation: lesz
 happy@yahoo.com ou par sms au +32 471 11 33 21
DTSTART;TZID=Europe/Luxembourg:20190202T200000
DTEND;TZID=Europe/Luxembourg:20190202T230000
LOCATION:Salle Familia\, route de bouillon\, 158   6700 Stockem-Arlon
SEQUENCE:0
SUMMARY:Les Zarel Zhappy rencontrent les Épatés Gaumais
X-ALT-DESC;FMTTYPE=text/html:<!DOCTYPE HTML PUBLIC '-//W3C//DTD HTML 3.2//E
 N'>\\n<HTML>\\n<HEAD>\\n<TITLE></TITLE>\\n</HEAD>\\n<BODY><p>Pour leur tou
 t premier spectacle\, les Zarel Zhappy rencontrent les Épatés Gaumais !<br
  />\nNous vous attendons nombreux pour faire de cette première un événemen
 t inoubliable !<br />\nPAF: 6€  adutles \, 3€ enfants<br />\nLe spectacle 
 commencera à 20h\, ouverture des portes à 19h30. </p>\n<p>Réservation: les
 zhappy@yahoo.com ou par sms au +32 471 11 33 21</p>\n</BODY></HTML>
END:VEVENT
END:VCALENDAR
