BEGIN:VCALENDAR
VERSION:2.0
PRODID:-//159.69.87.28//NONSGML kigkonsult.se iCalcreator 2.26.9//
CALSCALE:GREGORIAN
METHOD:PUBLISH
X-WR-CALNAME:F L I
X-WR-CALDESC:Fédération Luxembourgeoise d’Improvisation
X-FROM-URL:https://fli.lu
X-WR-TIMEZONE:Europe/Luxembourg
BEGIN:VTIMEZONE
TZID:Europe/Luxembourg
X-LIC-LOCATION:Europe/Luxembourg
BEGIN:STANDARD
DTSTART:20211031T030000
TZOFFSETFROM:+0200
TZOFFSETTO:+0100
RDATE:20221030T030000
TZNAME:CET
END:STANDARD
BEGIN:DAYLIGHT
DTSTART:20210328T020000
TZOFFSETFROM:+0100
TZOFFSETTO:+0200
RDATE:20220327T020000
TZNAME:CEST
END:DAYLIGHT
END:VTIMEZONE
BEGIN:VEVENT
UID:0anqtdasmtt7afh9h8bq20a6ib@google.com
DTSTAMP:20210720T132239Z
CATEGORIES:
CONTACT:
DESCRIPTION:Parce que l’impro\, c’est encore mieux après le boulot\, nous s
 ommes heureuses de vous convier au Rocas le mardi 8 janvier à partir de 19
 h pour l’afterwork d’impro de Tout Nues!\nOn boira un verre ensemble et s’
 en suivra notre tout premier spectacle de l’année qui commencera à 20h ! 
 \nEntrée libre.\nMerci toutefois de confirmer votre venue par email à tout
 nues@gmail.com et de partager l’info avec vos proches!\nA très bientôt 🙂\n
 Sonia et Céline
DTSTART;TZID=Europe/Luxembourg:20190108T190000
DTEND;TZID=Europe/Luxembourg:20190108T213000
LOCATION:Rocas Cafe-Theater / Cafe-Concert\, 33 Rue des Capucins\, 1313 Lux
 embourg
SEQUENCE:0
SUMMARY:TOUT NUES – Afterwork d’impro
X-ALT-DESC;FMTTYPE=text/html:<!DOCTYPE HTML PUBLIC '-//W3C//DTD HTML 3.2//E
 N'>\\n<HTML>\\n<HEAD>\\n<TITLE></TITLE>\\n</HEAD>\\n<BODY><p>Parce que l’i
 mpro\, c’est encore mieux après le boulot\, nous sommes heureuses de vous 
 convier au Rocas le mardi 8 janvier à partir de 19h pour l’afterwork d’imp
 ro de Tout Nues!</p>\n<p>On boira un verre ensemble et s’en suivra notre t
 out premier spectacle de l’année qui commencera à 20h ! </p>\n<p>Entrée li
 bre.</p>\n<p>Merci toutefois de confirmer votre venue par email à toutnues
 @gmail.com et de partager l’info avec vos proches!</p>\n<p>A très bientôt 
 🙂</p>\n<p>Sonia et Céline</p>\n</BODY></HTML>
END:VEVENT
END:VCALENDAR
