BEGIN:VCALENDAR
VERSION:2.0
PRODID:-//159.69.87.28//NONSGML kigkonsult.se iCalcreator 2.26.9//
CALSCALE:GREGORIAN
METHOD:PUBLISH
X-WR-CALNAME:F L I
X-WR-CALDESC:Fédération Luxembourgeoise d’Improvisation
X-FROM-URL:https://fli.lu
X-WR-TIMEZONE:Europe/Luxembourg
BEGIN:VTIMEZONE
TZID:Europe/Luxembourg
X-LIC-LOCATION:Europe/Luxembourg
BEGIN:STANDARD
DTSTART:20211031T030000
TZOFFSETFROM:+0200
TZOFFSETTO:+0100
RDATE:20221030T030000
TZNAME:CET
END:STANDARD
BEGIN:DAYLIGHT
DTSTART:20210328T020000
TZOFFSETFROM:+0100
TZOFFSETTO:+0200
RDATE:20220327T020000
TZNAME:CEST
END:DAYLIGHT
END:VTIMEZONE
BEGIN:VEVENT
UID:4pqvrac802b3bkkqqcb4bt1itm@google.com
DTSTAMP:20210720T132214Z
CATEGORIES:
CONTACT:
DESCRIPTION:GROUP MIND AND SPONTANEITY\nYou’ve heard about improv\, you’ve 
 seen some shows\, you are curious about giving it a try? This workshop is 
 made for you. Let’s awake your inner creativity and use it to be in the mo
 ment and to collectively create scenes: characters\, relationships\, envir
 onments and stories!\nDuring this workshop\, we will explore the fundament
 als of improv with an emphasis on group mind\, acceptance and spontaneity.
 \nCome and join a great group of open-minded\, enthusiastic and motivated 
 people for a great day of discovery and fun!
DTSTART;TZID=Europe/Luxembourg:20190105T100000
DTEND;TZID=Europe/Luxembourg:20190105T170000
LOCATION:Centre Nicolas Braun\, 5886\, 474 Route de Thionville\, 5886 Alzin
 gen\, Luxembourg
SEQUENCE:0
SUMMARY:One day Improv workshop – Celine CAMARA
X-ALT-DESC;FMTTYPE=text/html:<!DOCTYPE HTML PUBLIC '-//W3C//DTD HTML 3.2//E
 N'>\\n<HTML>\\n<HEAD>\\n<TITLE></TITLE>\\n</HEAD>\\n<BODY><p>GROUP MIND AN
 D SPONTANEITY</p>\n<p>You’ve heard about improv\, you’ve seen some shows\,
  you are curious about giving it a try? This workshop is made for you. Let
 ’s awake your inner creativity and use it to be in the moment and to colle
 ctively create scenes: characters\, relationships\, environments and stori
 es!</p>\n<p>During this workshop\, we will explore the fundamentals of imp
 rov with an emphasis on group mind\, acceptance and spontaneity.</p>\n<p>C
 ome and join a great group of open-minded\, enthusiastic and motivated peo
 ple for a great day of discovery and fun!</p>\n</BODY></HTML>
END:VEVENT
END:VCALENDAR
