BEGIN:VCALENDAR
VERSION:2.0
PRODID:-//159.69.87.28//NONSGML kigkonsult.se iCalcreator 2.26.9//
CALSCALE:GREGORIAN
METHOD:PUBLISH
X-WR-CALNAME:F L I
X-WR-CALDESC:Fédération Luxembourgeoise d’Improvisation
X-FROM-URL:https://fli.lu
X-WR-TIMEZONE:Europe/Luxembourg
BEGIN:VTIMEZONE
TZID:Europe/Luxembourg
X-LIC-LOCATION:Europe/Luxembourg
BEGIN:STANDARD
DTSTART:20211031T030000
TZOFFSETFROM:+0200
TZOFFSETTO:+0100
RDATE:20221030T030000
TZNAME:CET
END:STANDARD
BEGIN:DAYLIGHT
DTSTART:20210328T020000
TZOFFSETFROM:+0100
TZOFFSETTO:+0200
RDATE:20220327T020000
TZNAME:CEST
END:DAYLIGHT
END:VTIMEZONE
BEGIN:VEVENT
UID:7b0f0r4d5kp0km5hhc5mpracn9@google.com
DTSTAMP:20210720T132147Z
CATEGORIES:
CONTACT:
DESCRIPTION:<p>Plus de renseignements sous peu</p>
DTSTART;TZID=Europe/Luxembourg:20190119T200000
DTEND;TZID=Europe/Luxembourg:20190119T223000
LOCATION:Paris\, France
SEQUENCE:0
SUMMARY:Match FLI – LIP (Ligue d’Impro de Paris)
END:VEVENT
END:VCALENDAR
