BEGIN:VCALENDAR
VERSION:2.0
PRODID:-//159.69.87.28//NONSGML kigkonsult.se iCalcreator 2.26.9//
CALSCALE:GREGORIAN
METHOD:PUBLISH
X-WR-CALNAME:F L I
X-WR-CALDESC:Fédération Luxembourgeoise d’Improvisation
X-FROM-URL:https://fli.lu
X-WR-TIMEZONE:Europe/Luxembourg
BEGIN:VTIMEZONE
TZID:Europe/Luxembourg
X-LIC-LOCATION:Europe/Luxembourg
BEGIN:STANDARD
DTSTART:20211031T030000
TZOFFSETFROM:+0200
TZOFFSETTO:+0100
RDATE:20221030T030000
TZNAME:CET
END:STANDARD
BEGIN:DAYLIGHT
DTSTART:20210328T020000
TZOFFSETFROM:+0100
TZOFFSETTO:+0200
RDATE:20220327T020000,20230326T020000
TZNAME:CEST
END:DAYLIGHT
END:VTIMEZONE
BEGIN:VEVENT
UID:0q439mvekcsq1u4ip57sub7705@google.com
DTSTAMP:20211004T234621Z
CATEGORIES:
CONTACT:
DESCRIPTION:https://www.facebook.com/101968781544186/photos/a.3311846519559
 30/331190321955363/
DTSTART;TZID=Europe/Luxembourg:20210717T184500
DTEND;TZID=Europe/Luxembourg:20210717T204500
LOCATION:151 Rue d'Esch\, 3922 Mondercange\, Luxembourg
SEQUENCE:0
SUMMARY:Les Improbables – BBQ SHOW
X-ALT-DESC;FMTTYPE=text/html:<!DOCTYPE HTML PUBLIC '-//W3C//DTD HTML 3.2//E
 N'>\\n<HTML>\\n<HEAD>\\n<TITLE></TITLE>\\n</HEAD>\\n<BODY><p><a href='http
 s://www.facebook.com/101968781544186/photos/a.331184651955930/331190321955
 363/' id='ow975'>https://www.facebook.com/101968781544186/photos/a.3311846
 51955930/331190321955363/</a></p>\n</BODY></HTML>
END:VEVENT
END:VCALENDAR
