BEGIN:VCALENDAR
VERSION:2.0
PRODID:-//159.69.87.28//NONSGML kigkonsult.se iCalcreator 2.26.9//
CALSCALE:GREGORIAN
METHOD:PUBLISH
X-WR-CALNAME:F L I
X-WR-CALDESC:Fédération Luxembourgeoise d’Improvisation
X-FROM-URL:https://fli.lu
X-WR-TIMEZONE:Europe/Luxembourg
BEGIN:VTIMEZONE
TZID:Europe/Luxembourg
X-LIC-LOCATION:Europe/Luxembourg
BEGIN:STANDARD
DTSTART:20211031T030000
TZOFFSETFROM:+0200
TZOFFSETTO:+0100
RDATE:20221030T030000
TZNAME:CET
END:STANDARD
BEGIN:DAYLIGHT
DTSTART:20210328T020000
TZOFFSETFROM:+0100
TZOFFSETTO:+0200
RDATE:20220327T020000,20230326T020000
TZNAME:CEST
END:DAYLIGHT
END:VTIMEZONE
BEGIN:VEVENT
UID:525bdk11o8u71p1h8mce3k3bhh@google.com
DTSTAMP:20211004T234605Z
CATEGORIES:
CONTACT:
DESCRIPTION:<p>Spectacle d’improvisation théâtrale réunissant les équipes d
 e l’Habérézina et des Epatés Gaumais : le derby du Sud-Luxembourg ! Venez 
 voter pour vos improvisations préférées.<br />\nRéservations au 0492 51 16
  56 ou par mail à l’adresse info@petittheatre.be</p>\n<p>(2) Les Epatés Ga
 umais vs L’Habérézina – Spectacle d’improvisation théâtrale | Facebook</p>
DTSTART;VALUE=DATE:20211002
DTEND;VALUE=DATE:20211003
LOCATION:Rue du Dr Albert Hustin 60a\, 6760 Virton\, Belgique
SEQUENCE:0
SUMMARY:Rencontre d’impro : Les Epatés Gaumais vs L’Habérézina à Ethe (BE)
END:VEVENT
END:VCALENDAR
