BEGIN:VCALENDAR
VERSION:2.0
PRODID:-//159.69.87.28//NONSGML kigkonsult.se iCalcreator 2.26.9//
CALSCALE:GREGORIAN
METHOD:PUBLISH
X-WR-CALNAME:F L I
X-WR-CALDESC:Fédération Luxembourgeoise d’Improvisation
X-FROM-URL:https://fli.lu
X-WR-TIMEZONE:Europe/Luxembourg
BEGIN:VTIMEZONE
TZID:Europe/Luxembourg
X-LIC-LOCATION:Europe/Luxembourg
BEGIN:STANDARD
DTSTART:20211031T030000
TZOFFSETFROM:+0200
TZOFFSETTO:+0100
RDATE:20221030T030000
TZNAME:CET
END:STANDARD
BEGIN:DAYLIGHT
DTSTART:20210328T020000
TZOFFSETFROM:+0100
TZOFFSETTO:+0200
RDATE:20220327T020000,20230326T020000
TZNAME:CEST
END:DAYLIGHT
END:VTIMEZONE
BEGIN:VEVENT
UID:6l9ebgj7rj7cupqu57dc7kqn02@google.com
DTSTAMP:20211004T234556Z
CATEGORIES:
CONTACT:
DESCRIPTION:Venez découvrir les improbables sur scène pour un spectacle de 
 2 impro longue ( env. 50 min).\nSoit on est bon et vous rirez soit on est 
 mauvais et vous rirez aussi 😉\nAttention réservation souhaitée et uniqueme
 nt en commentaire de l événement sur le fb ou insta des improbables. Égale
 ment au +352 661 242120.\nL événement se déroulera en Covid Check ( pas de
  tests sur place)
DTSTART;VALUE=DATE:20210924
DTEND;VALUE=DATE:20210925
LOCATION:Mk bar\, 1 avenue du Swing L4367 Esch sur Alzette
SEQUENCE:0
SUMMARY:Les improbables version longue
X-ALT-DESC;FMTTYPE=text/html:<!DOCTYPE HTML PUBLIC '-//W3C//DTD HTML 3.2//E
 N'>\\n<HTML>\\n<HEAD>\\n<TITLE></TITLE>\\n</HEAD>\\n<BODY><p>Venez découvr
 ir les improbables sur scène pour un spectacle de 2 impro longue ( env. 50
  min).<br />\nSoit on est bon et vous rirez soit on est mauvais et vous ri
 rez aussi 😉<br />\nAttention réservation souhaitée et uniquement en commen
 taire de l événement sur le fb ou insta des improbables. Également au +352
  661 242120.<br />\nL événement se déroulera en Covid Check ( pas de tests
  sur place)</p>\n</BODY></HTML>
END:VEVENT
END:VCALENDAR
