BEGIN:VCALENDAR
VERSION:2.0
PRODID:-//139.162.187.178//NONSGML kigkonsult.se iCalcreator 2.20//
CALSCALE:GREGORIAN
METHOD:PUBLISH
X-WR-CALNAME:F L I
X-WR-CALDESC:Fédération Luxembourgeoise d’Improvisation
X-FROM-URL:https://fli.lu
X-WR-TIMEZONE:Europe/Luxembourg
BEGIN:VTIMEZONE
TZID:Europe/Luxembourg
X-LIC-LOCATION:Europe/Luxembourg
BEGIN:STANDARD
DTSTART:20181028T030000
TZOFFSETFROM:+0200
TZOFFSETTO:+0100
TZNAME:CET
END:STANDARD
BEGIN:DAYLIGHT
DTSTART:20180325T020000
TZOFFSETFROM:+0100
TZOFFSETTO:+0200
TZNAME:CEST
END:DAYLIGHT
END:VTIMEZONE
BEGIN:VEVENT
UID:5i2lvpjjjm6mp2p6h8cqs4vgbk@google.com
DTSTAMP:20180701T034409Z
CATEGORIES:
CONTACT:
DESCRIPTION:Cluedo IMPRO – Samedi 13 Janvier 2018 -20:30 – Centre Culturel 
 Altrimenti
DTSTART;TZID=Europe/Luxembourg:20180113T203000
DTEND;TZID=Europe/Luxembourg:20180113T223000
LOCATION:Centre Culturel Altrimenti\, 5 Avenue Marie-Thérèse\, 2132 Luxembo
 urg
SEQUENCE:0
SUMMARY:POIL – Cluedo – spectacle
URL:https://fli.lu/evenement/poil-cluedo-spectacle/
X-COST-TYPE:free
X-ALT-DESC;FMTTYPE=text/html:<!DOCTYPE HTML PUBLIC '-//W3C//DTD HTML 3.2//E
 N'>\\n<HTML>\\n<HEAD>\\n<TITLE></TITLE>\\n</HEAD>\\n<BODY><blockquote clas
 s='wp-embedded-content' data-secret='Z6BhCpVn22'><p><a href='http://www.po
 il.lu/spectacles/cluedo-impro-samedi-13-janvier-2018-2030-centre-culturel-
 altrimenti/'>Cluedo IMPRO – Samedi 13 Janvier 2018 -20:30 – Centre Culture
 l Altrimenti</a></p></blockquote>\n<p><iframe class='wp-embedded-content' 
 sandbox='allow-scripts' security='restricted' style='position: absolute\; 
 clip: rect(1px\, 1px\, 1px\, 1px)\;' src='http://www.poil.lu/spectacles/cl
 uedo-impro-samedi-13-janvier-2018-2030-centre-culturel-altrimenti/embed/#?
 secret=Z6BhCpVn22' data-secret='Z6BhCpVn22' width='600' height='338' title
 ='« Cluedo IMPRO – Samedi 13 Janvier 2018 -20:30 – Centre Culturel Altrime
 nti » — POIL - POle Impro Luxembourg - Improvisation théâtrale.' framebord
 er='0' marginwidth='0' marginheight='0' scrolling='no'></iframe></p>\n</BO
 DY></HTML>
END:VEVENT
END:VCALENDAR
