BEGIN:VCALENDAR
VERSION:2.0
PRODID:-//139.162.187.178//NONSGML kigkonsult.se iCalcreator 2.20//
CALSCALE:GREGORIAN
METHOD:PUBLISH
X-WR-CALNAME:F L I
X-WR-CALDESC:Fédération Luxembourgeoise d’Improvisation
X-FROM-URL:https://fli.lu
X-WR-TIMEZONE:Europe/Luxembourg
BEGIN:VTIMEZONE
TZID:Europe/Luxembourg
X-LIC-LOCATION:Europe/Luxembourg
BEGIN:STANDARD
DTSTART:20181028T030000
TZOFFSETFROM:+0200
TZOFFSETTO:+0100
TZNAME:CET
END:STANDARD
BEGIN:DAYLIGHT
DTSTART:20180325T020000
TZOFFSETFROM:+0100
TZOFFSETTO:+0200
TZNAME:CEST
END:DAYLIGHT
END:VTIMEZONE
BEGIN:VEVENT
UID:10sqf01adhfp5s77kp1qot3brr@google.com
DTSTAMP:20180701T034202Z
CATEGORIES:
CONTACT:
DESCRIPTION:<h5>DESCRIPTION</h5>\n<p>28 et 29 avril 2018 à Luxembourg</p>\n
 <p>Langue: français (anglais)<br />Réservations : hello@FLI.lu<br />Tarif 
 adhérent : 120€ (improvisateur membre de la FLI)<br />Tarif plein: 140€ (i
 nclus cotisation 25€ à la FLI)</p>\n<p>Pré-inscription : 20€ (non rembours
 ables) à verser sur le compte de la FLI</p>\n<p>Description:<br />La techn
 ique Meisner est une série d’exercices conçus pour focaliser l’attention s
 ur votre partenaire de jeu. L’intention de Meisner était de transférer l’a
 ttention sur l’autre\, en vous ancrant simultanément dans le moment présen
 t. Plus tard\, il y ajouta un autre ensemble d’exercices visant à aider l’
 acteur à comprendre le ressenti de circonstances données procurées par le 
 texte et par son metteur en scène. Enfin\, une série de techniques complém
 entaires permettent de redécouvrir les circonstances que vous êtes supposé
 (e) transmettre à un niveau organique.</p>
DTSTART;VALUE=DATE:20180428
DTEND;VALUE=DATE:20180429
RRULE:FREQ=DAILY;UNTIL=20180429
SEQUENCE:0
SUMMARY:FLI STAGE – The Meisner Technique – KEITH FARQUHAR
URL:https://fli.lu/evenement/stage-the-meisner-technique-keith-farquhar/
END:VEVENT
END:VCALENDAR
