BEGIN:VCALENDAR
VERSION:2.0
PRODID:-//139.162.187.178//NONSGML kigkonsult.se iCalcreator 2.20//
CALSCALE:GREGORIAN
METHOD:PUBLISH
X-WR-CALNAME:F L I
X-WR-CALDESC:Fédération Luxembourgeoise d’Improvisation
X-FROM-URL:https://fli.lu
X-WR-TIMEZONE:Europe/Luxembourg
BEGIN:VTIMEZONE
TZID:Europe/Luxembourg
X-LIC-LOCATION:Europe/Luxembourg
BEGIN:STANDARD
DTSTART:20181028T030000
TZOFFSETFROM:+0200
TZOFFSETTO:+0100
TZNAME:CET
END:STANDARD
BEGIN:DAYLIGHT
DTSTART:20180325T020000
TZOFFSETFROM:+0100
TZOFFSETTO:+0200
TZNAME:CEST
END:DAYLIGHT
END:VTIMEZONE
BEGIN:VEVENT
UID:2l8t0j4h0f3dibonspi54g4sj2@google.com
DTSTAMP:20180701T034144Z
CATEGORIES:
CONTACT:
DESCRIPTION:https://www.facebook.com/events/818575201600935/
DTSTART;VALUE=DATE:20180114
DTEND;VALUE=DATE:20180115
LOCATION:Centre culturel de Habay\, Rue d'Hoffschmidt 27\, 6720 Habay-la-Ne
 uve\, Belgique
SEQUENCE:0
SUMMARY:L’HABEREZINA – Journée d’initiation à l’improvisation théâtrale
URL:https://fli.lu/evenement/lhaberezina-journee-dinitiation-a-limprovisati
 on-theatrale/
X-COST-TYPE:free
X-ALT-DESC;FMTTYPE=text/html:<!DOCTYPE HTML PUBLIC '-//W3C//DTD HTML 3.2//E
 N'>\\n<HTML>\\n<HEAD>\\n<TITLE></TITLE>\\n</HEAD>\\n<BODY><p><a href='http
 s://www.facebook.com/events/818575201600935/'>https://www.facebook.com/eve
 nts/818575201600935/</a></p>\n</BODY></HTML>
END:VEVENT
END:VCALENDAR
