BEGIN:VCALENDAR
VERSION:2.0
PRODID:-//139.162.187.178//NONSGML kigkonsult.se iCalcreator 2.20//
CALSCALE:GREGORIAN
METHOD:PUBLISH
X-WR-CALNAME:F L I
X-WR-CALDESC:Fédération Luxembourgeoise d’Improvisation
X-FROM-URL:https://fli.lu
X-WR-TIMEZONE:Europe/Luxembourg
BEGIN:VTIMEZONE
TZID:Europe/Luxembourg
X-LIC-LOCATION:Europe/Luxembourg
BEGIN:STANDARD
DTSTART:20181028T030000
TZOFFSETFROM:+0200
TZOFFSETTO:+0100
TZNAME:CET
END:STANDARD
BEGIN:DAYLIGHT
DTSTART:20180325T020000
TZOFFSETFROM:+0100
TZOFFSETTO:+0200
TZNAME:CEST
END:DAYLIGHT
END:VTIMEZONE
BEGIN:VEVENT
UID:2r1g1c1v6t86nq65cnctvdmlln_R20180113@google.com
DTSTAMP:20180701T034119Z
CATEGORIES:
CONTACT:
DESCRIPTION:COMPLET!\n13 et 14 janvier 2018 de 10h à 17h à Arlon\nLangue: F
 rançaisContact: hello@FLI.luTarif adhérent : 90€ (improvisateur membre de 
 la FLI)Tarif plein: 110€ (inclus cotisation 25€ à la FLI)\nDescription:\n«
  L’improvisateur doit se rendre compte que plus il fait des choses évident
 es\, plus il semble original. » (Keith Johnstone)\nUne improvisation doit 
 être intéressante ! Le spectateur veut vivre des émotions\, s’attacher à u
 n personnage\, vibrer avec lui\, pleurer avec lui\, rire avec lui. Alors\,
  comment battre en brèche une action répétitive ? Comment faire évoluer un
 e situation banale qui s’enlise vers une histoire hors du commun qui va ac
 crocher le public ? Comment sortir un personnage de sa routine en lui trou
 vant le moteur de sa vie ?
DTSTART;VALUE=DATE:20180113
DTEND;VALUE=DATE:20180114
LOCATION:Salle Ysaye\, Place des Chasseurs Ardennais 10\, 6700 Arlon\, Belg
 ique
RRULE:FREQ=DAILY;UNTIL=20180114
SEQUENCE:0
SUMMARY:FLI STAGE- Comment faire d’une histoire ordinaire une histoire extr
 aordinaire ?
URL:https://fli.lu/evenement/fli-stage-comment-faire-dune-histoire-ordinair
 e-une-histoire-extraordinaire/
X-ALT-DESC;FMTTYPE=text/html:<!DOCTYPE HTML PUBLIC '-//W3C//DTD HTML 3.2//E
 N'>\\n<HTML>\\n<HEAD>\\n<TITLE></TITLE>\\n</HEAD>\\n<BODY><p>COMPLET!</p>
 \n<p>13 et 14 janvier 2018 de 10h à 17h à Arlon</p>\n<p>Langue: Français<b
 r />Contact: hello@FLI.lu<br />Tarif adhérent : 90€ (improvisateur membre 
 de la FLI)<br />Tarif plein: 110€ (inclus cotisation 25€ à la FLI)</p>\n<p
 >Description:</p>\n<p>« L’improvisateur doit se rendre compte que plus il 
 fait des choses évidentes\, plus il semble original. » (Keith Johnstone)</
 p>\n<p>Une improvisation doit être intéressante ! Le spectateur veut vivre
  des émotions\, s’attacher à un personnage\, vibrer avec lui\, pleurer ave
 c lui\, rire avec lui. Alors\, comment battre en brèche une action répétit
 ive ? Comment faire évoluer une situation banale qui s’enlise vers une his
 toire hors du commun qui va accrocher le public ? Comment sortir un person
 nage de sa routine en lui trouvant le moteur de sa vie ?</p>\n</BODY></HTM
 L>
END:VEVENT
END:VCALENDAR
