BEGIN:VCALENDAR
VERSION:2.0
PRODID:-//139.162.187.178//NONSGML kigkonsult.se iCalcreator 2.20//
CALSCALE:GREGORIAN
METHOD:PUBLISH
X-WR-CALNAME:F L I
X-WR-CALDESC:Fédération Luxembourgeoise d’Improvisation
X-FROM-URL:https://fli.lu
X-WR-TIMEZONE:Europe/Luxembourg
BEGIN:VTIMEZONE
TZID:Europe/Luxembourg
X-LIC-LOCATION:Europe/Luxembourg
BEGIN:STANDARD
DTSTART:20181028T030000
TZOFFSETFROM:+0200
TZOFFSETTO:+0100
TZNAME:CET
END:STANDARD
BEGIN:DAYLIGHT
DTSTART:20180325T020000
TZOFFSETFROM:+0100
TZOFFSETTO:+0200
TZNAME:CEST
END:DAYLIGHT
END:VTIMEZONE
BEGIN:VEVENT
UID:1j1af3btbnhut7dhqtg27q0rgq@google.com
DTSTAMP:20180701T034314Z
CATEGORIES:
CONTACT:
DESCRIPTION:<blockquote class='wp-embedded-content' data-secret='iymmBguO4J
 '><p><a href='http://www.poil.lu/spectacles/match-dimpro-poil-vs-grande-re
 gion-samedi-09-decembre-2017-20h30-centre-culturel-altrimenti-luxembourg-v
 ille/'>Match d’impro Poil VS Grande Région – Samedi 09 Decembre 2017 – 20h
 30 – Centre Culturel Altrimenti – Luxembourg-Ville</a></p></blockquote>\n<
 p><iframe class='wp-embedded-content' sandbox='allow-scripts' security='re
 stricted' style='position: absolute\; clip: rect(1px\, 1px\, 1px\, 1px)\;'
  src='http://www.poil.lu/spectacles/match-dimpro-poil-vs-grande-region-sam
 edi-09-decembre-2017-20h30-centre-culturel-altrimenti-luxembourg-ville/emb
 ed/#?secret=iymmBguO4J' data-secret='iymmBguO4J' width='600' height='338' 
 title='« Match d’impro Poil VS Grande Région – Samedi 09 Decembre 2017 – 2
 0h30 – Centre Culturel Altrimenti – Luxembourg-Ville » — POIL - POle Impro
  Luxembourg - Improvisation théâtrale.' frameborder='0' marginwidth='0' ma
 rginheight='0' scrolling='no'></iframe></p>
DTSTART;TZID=Europe/Luxembourg:20171209T203000
DTEND;TZID=Europe/Luxembourg:20171209T230000
LOCATION:Centre Culturel Altrimenti\, 5 Avenue Marie-Thérèse\, 2132 Luxembo
 urg
SEQUENCE:0
SUMMARY:POIL – Match d’impro Poil VS Grande Région
URL:https://fli.lu/evenement/poil-match-dimpro-poil-vs-grande-region/
END:VEVENT
END:VCALENDAR
