BEGIN:VCALENDAR
VERSION:2.0
PRODID:-//139.162.187.178//NONSGML kigkonsult.se iCalcreator 2.20//
CALSCALE:GREGORIAN
METHOD:PUBLISH
X-WR-CALNAME:F L I
X-WR-CALDESC:Fédération Luxembourgeoise d’Improvisation
X-FROM-URL:https://fli.lu
X-WR-TIMEZONE:Europe/Luxembourg
BEGIN:VTIMEZONE
TZID:Europe/Luxembourg
X-LIC-LOCATION:Europe/Luxembourg
BEGIN:STANDARD
DTSTART:20181028T030000
TZOFFSETFROM:+0200
TZOFFSETTO:+0100
TZNAME:CET
END:STANDARD
BEGIN:DAYLIGHT
DTSTART:20180325T020000
TZOFFSETFROM:+0100
TZOFFSETTO:+0200
TZNAME:CEST
END:DAYLIGHT
END:VTIMEZONE
BEGIN:VEVENT
UID:2u5odrdk1o905h9gf2pk5hovvs@google.com
DTSTAMP:20180701T035343Z
CATEGORIES:
CONTACT:
DESCRIPTION:<p><a href='https://www.facebook.com/events/223314154915659/'>h
 ttps://www.facebook.com/events/223314154915659/</a></p>
DTSTART;TZID=Europe/Luxembourg:20180421T203000
DTEND;TZID=Europe/Luxembourg:20180421T223000
LOCATION:17\, rue du Saint Esprit\, 1475 Luxembourg (ville)
SEQUENCE:0
SUMMARY:PETACO – Carte Blanche à Nicolas Tondreau
URL:https://fli.lu/evenement/petaco-spectacle-2/
END:VEVENT
END:VCALENDAR
