BEGIN:VCALENDAR
VERSION:2.0
PRODID:-//139.162.187.178//NONSGML kigkonsult.se iCalcreator 2.20//
CALSCALE:GREGORIAN
METHOD:PUBLISH
X-WR-CALNAME:F L I
X-WR-CALDESC:Fédération Luxembourgeoise d’Improvisation
X-FROM-URL:https://fli.lu
X-WR-TIMEZONE:Europe/Luxembourg
BEGIN:VTIMEZONE
TZID:Europe/Luxembourg
X-LIC-LOCATION:Europe/Luxembourg
BEGIN:STANDARD
DTSTART:20181028T030000
TZOFFSETFROM:+0200
TZOFFSETTO:+0100
TZNAME:CET
END:STANDARD
BEGIN:DAYLIGHT
DTSTART:20180325T020000
TZOFFSETFROM:+0100
TZOFFSETTO:+0200
TZNAME:CEST
END:DAYLIGHT
END:VTIMEZONE
BEGIN:VEVENT
UID:4o9es7hon1fd6or31uekf5pqkm@google.com
DTSTAMP:20180701T035623Z
CATEGORIES:
CONTACT:
DESCRIPTION:<p><a href='https://www.love-your-artist.de/de/deguddewellen/un
 -grand-merci-et-des-rencontres/'>https://www.love-your-artist.de/de/degudd
 ewellen/un-grand-merci-et-des-rencontres/</a></p>
DTSTART;TZID=Europe/Luxembourg:20180529T203000
DTEND;TZID=Europe/Luxembourg:20180529T223000
LOCATION:De Gudde Wëllen\, 17 Rue du St Esprit\, 1475 Luxembourg
SEQUENCE:0
SUMMARY:PETACO spectacle – « folle cositude »
URL:https://fli.lu/evenement/petaco-spectacle-3/
END:VEVENT
END:VCALENDAR
