BEGIN:VCALENDAR
VERSION:2.0
PRODID:-//139.162.187.178//NONSGML kigkonsult.se iCalcreator 2.20//
CALSCALE:GREGORIAN
METHOD:PUBLISH
X-WR-CALNAME:F L I
X-WR-CALDESC:Fédération Luxembourgeoise d’Improvisation
X-FROM-URL:https://fli.lu
X-WR-TIMEZONE:Europe/Luxembourg
BEGIN:VTIMEZONE
TZID:Europe/Luxembourg
X-LIC-LOCATION:Europe/Luxembourg
BEGIN:STANDARD
DTSTART:20181028T030000
TZOFFSETFROM:+0200
TZOFFSETTO:+0100
TZNAME:CET
END:STANDARD
BEGIN:DAYLIGHT
DTSTART:20180325T020000
TZOFFSETFROM:+0100
TZOFFSETTO:+0200
TZNAME:CEST
END:DAYLIGHT
END:VTIMEZONE
BEGIN:VEVENT
UID:2760qdr9oiva5eddvgvaucsmeu@google.com
DTSTAMP:20180701T034337Z
CATEGORIES:
CONTACT:
DESCRIPTION:<p><a href='https://www.google.com/url?q=https%3A%2F%2Fwww.face
 book.com%2Fevents%2F1833006816999041%2Fpermalink%2F1835066483459741%2F%3Fn
 otif_t%3Dfeedback_reaction_generic%26notif_id%3D1515561986927512&sa=D&usd=
 2&usg=AFQjCNGdMvatjsjzFxTNg1Zk2yJ1B5zQyg' target='_blank'>Lien Facebook</a
 ></p>
DTSTART;TZID=Europe/Luxembourg:20180113T203000
DTEND;TZID=Europe/Luxembourg:20180113T230000
LOCATION:Rue Etienne Gantrel\, 57050 Metz\, France
SEQUENCE:0
SUMMARY:LE BORDEL – Spectacle d’Improvisation Théâtrale
URL:https://fli.lu/evenement/le-bordel-spectacle-dimprovisation-theatrale/
END:VEVENT
END:VCALENDAR
