BEGIN:VCALENDAR
VERSION:2.0
PRODID:-//139.162.187.178//NONSGML kigkonsult.se iCalcreator 2.20//
CALSCALE:GREGORIAN
METHOD:PUBLISH
X-WR-CALNAME:F L I
X-WR-CALDESC:Fédération Luxembourgeoise d’Improvisation
X-FROM-URL:https://fli.lu
X-WR-TIMEZONE:Europe/Luxembourg
BEGIN:VTIMEZONE
TZID:Europe/Luxembourg
X-LIC-LOCATION:Europe/Luxembourg
BEGIN:STANDARD
DTSTART:20181028T030000
TZOFFSETFROM:+0200
TZOFFSETTO:+0100
TZNAME:CET
END:STANDARD
BEGIN:DAYLIGHT
DTSTART:20180325T020000
TZOFFSETFROM:+0100
TZOFFSETTO:+0200
TZNAME:CEST
END:DAYLIGHT
END:VTIMEZONE
BEGIN:VEVENT
UID:04gbc7ap0dhijdc2d0nu0f4br6@google.com
DTSTAMP:20180701T035221Z
CATEGORIES:
CONTACT:
DESCRIPTION:<p>Plus de précisions sous peu</p>
DTSTART;TZID=Europe/Luxembourg:20180407T203000
DTEND;TZID=Europe/Luxembourg:20180407T230000
LOCATION:Place des Chasseurs Ardennais 10\, 6700 Arlon\, Belgique
SEQUENCE:0
SUMMARY:DRAMES DU CERF – Match contre les Improtozaures
URL:https://fli.lu/evenement/drames-du-cerf-match-contre-les-improtozaures/
END:VEVENT
END:VCALENDAR
