BEGIN:VCALENDAR
VERSION:2.0
PRODID:-//139.162.187.178//NONSGML kigkonsult.se iCalcreator 2.20//
CALSCALE:GREGORIAN
METHOD:PUBLISH
X-WR-CALNAME:F L I
X-WR-CALDESC:Fédération Luxembourgeoise d’Improvisation
X-FROM-URL:https://fli.lu
X-WR-TIMEZONE:Europe/Luxembourg
BEGIN:VTIMEZONE
TZID:Europe/Luxembourg
X-LIC-LOCATION:Europe/Luxembourg
BEGIN:STANDARD
DTSTART:20181028T030000
TZOFFSETFROM:+0200
TZOFFSETTO:+0100
TZNAME:CET
END:STANDARD
BEGIN:DAYLIGHT
DTSTART:20180325T020000
TZOFFSETFROM:+0100
TZOFFSETTO:+0200
TZNAME:CEST
END:DAYLIGHT
END:VTIMEZONE
BEGIN:VEVENT
UID:1i6pjljo7q23ca8vdeaomeqe9j@google.com
DTSTAMP:20180701T035011Z
CATEGORIES:
CONTACT:
DESCRIPTION:<p>ARLON – Salle de l’Institut Sainte-Marie (ISMA)<br /><span>Q
 ue peuvent bien se raconter des arlonnais et des parisiens sur une patinoi
 re? Pour le savoir…venez nous voir pour une partie de franche rigolade.<br
  /></span><span>Entrée 7€<br /></span>https://www.facebook.com/events/5428
 83759426286/<br /><span><br /></span></p>
DTSTART;TZID=Europe/Luxembourg:20180310T203000
DTEND;TZID=Europe/Luxembourg:20180310T230000
LOCATION:Institut Sainte-Marie\, Rue de Bastogne 33\, 6700 Arlon\, Belgique
SEQUENCE:0
SUMMARY:DRAMES DU CERF – Match contre les Konkisadors
URL:https://fli.lu/evenement/drames-du-cerf-match-contre-les-konkisadors/
X-COST-TYPE:free
END:VEVENT
END:VCALENDAR
