BEGIN:VCALENDAR
VERSION:2.0
PRODID:-//139.162.187.178//NONSGML kigkonsult.se iCalcreator 2.20//
CALSCALE:GREGORIAN
METHOD:PUBLISH
X-WR-CALNAME:F L I
X-WR-CALDESC:Fédération Luxembourgeoise d’Improvisation
X-FROM-URL:https://fli.lu
X-WR-TIMEZONE:Europe/Luxembourg
BEGIN:VTIMEZONE
TZID:Europe/Luxembourg
X-LIC-LOCATION:Europe/Luxembourg
BEGIN:STANDARD
DTSTART:20181028T030000
TZOFFSETFROM:+0200
TZOFFSETTO:+0100
TZNAME:CET
END:STANDARD
BEGIN:DAYLIGHT
DTSTART:20180325T020000
TZOFFSETFROM:+0100
TZOFFSETTO:+0200
TZNAME:CEST
END:DAYLIGHT
END:VTIMEZONE
BEGIN:VEVENT
UID:18aib8ajq2qgpjc9hp3qtateif@google.com
DTSTAMP:20180701T035411Z
CATEGORIES:
CONTACT:
DESCRIPTION:<p>Lors de cette soirée\, nos dix improvisateurs (dont 5 venus 
 spécialement de Brest) auront une seule mission : mettre en scène les souh
 aits les plus poétiques\, les plus fous\, les plus inavouables de notre Pu
 blic.</p>\n<p> Car oui\, c’est bien Toi\, Public\, qui inscriras sur des p
 apiers magiques les rêves de ton choix. Tu les déposeras ensuite dans LA B
 OÎTE À RÊVES et nos improvisateurs se chargeront de la suite.</p>\n<p> Tu 
 vas assister à un ballet inédit d’improvisations qui s’entrecroiseront (pa
 <span class='text_exposed_show'>rfois) et qui ne s’éteindront qu’une fois 
 votre souhait réalisé sur scène!</span></p>\n<div class='text_exposed_show
 '>\n<p> Cher Public\, nous t’invitons donc à faire avec nous un voyage ino
 ubliable au cœur de TON imagination !</p>\n<p><a href='https://www.faceboo
 k.com/events/230648464158361/'>https://www.facebook.com/events/23064846415
 8361/</a></p>
DTSTART;TZID=Europe/Luxembourg:20180421T203000
DTEND;TZID=Europe/Luxembourg:20180421T223000
LOCATION:Centre Culturel Altrimenti\, 5 Avenue Marie-Thérèse\, 2132 Luxembo
 urg
SEQUENCE:0
SUMMARY:POIL – La Boîte à Rêves et LIBIDO Brest
URL:https://fli.lu/evenement/poil-spectacle/
END:VEVENT
END:VCALENDAR
