BEGIN:VCALENDAR
VERSION:2.0
PRODID:-//139.162.187.178//NONSGML kigkonsult.se iCalcreator 2.20//
CALSCALE:GREGORIAN
METHOD:PUBLISH
X-WR-CALNAME:F L I
X-WR-CALDESC:Fédération Luxembourgeoise d’Improvisation
X-FROM-URL:https://fli.lu
X-WR-TIMEZONE:Europe/Luxembourg
BEGIN:VTIMEZONE
TZID:Europe/Luxembourg
X-LIC-LOCATION:Europe/Luxembourg
BEGIN:STANDARD
DTSTART:20181028T030000
TZOFFSETFROM:+0200
TZOFFSETTO:+0100
TZNAME:CET
END:STANDARD
BEGIN:DAYLIGHT
DTSTART:20180325T020000
TZOFFSETFROM:+0100
TZOFFSETTO:+0200
TZNAME:CEST
END:DAYLIGHT
END:VTIMEZONE
BEGIN:VEVENT
UID:2al49kpf4l99d5j62e61m0tnpv@google.com
DTSTAMP:20180701T035820Z
CATEGORIES:
CONTACT:
DESCRIPTION:Pour son dernier spectacle de la saison\, le Poil te propose de
  jouer au marionnettiste en influant sur les destins de personnages que to
 i\, public\, tu créeras et que les Poilus interpréteront sous tes yeux éba
 ubis !\nVous pouvez réserver vos places: resa@poil.lu\nRetrouvez toutes le
 s infos\nSur facebook: https://www.facebook.com/events/406546496484362/\nS
 ur notre site internet: http://www.poil.lu/
DTSTART;TZID=Europe/Luxembourg:20180616T203000
DTEND;TZID=Europe/Luxembourg:20180616T223000
LOCATION:Centre Culturel Altrimenti\, 5 Avenue Marie-Thérèse\, 2132 Luxembo
 urg
SEQUENCE:0
SUMMARY:POIL – DESTIN – dernier spectacle de la saison!
URL:https://fli.lu/evenement/poil-spectacle-2/
X-ALT-DESC;FMTTYPE=text/html:<!DOCTYPE HTML PUBLIC '-//W3C//DTD HTML 3.2//E
 N'>\\n<HTML>\\n<HEAD>\\n<TITLE></TITLE>\\n</HEAD>\\n<BODY><p>Pour son dern
 ier spectacle de la saison\, le Poil te propose de jouer au marionnettiste
  en influant sur les destins de personnages que toi\, public\, tu créeras 
 et que les Poilus interpréteront sous tes yeux ébaubis !</p>\n<p>Vous pouv
 ez réserver vos places: <a href='mailto:resa@poil.lu' target='_blank'>resa
 @poil.lu</a></p>\n<p>Retrouvez toutes les infos</p>\n<p>Sur facebook: http
 s://www.facebook.com/events/406546496484362/</p>\n<p>Sur notre site intern
 et: http://www.poil.lu/</p>\n</BODY></HTML>
END:VEVENT
END:VCALENDAR
