BEGIN:VCALENDAR
VERSION:2.0
PRODID:-//139.162.187.178//NONSGML kigkonsult.se iCalcreator 2.20//
CALSCALE:GREGORIAN
METHOD:PUBLISH
X-WR-CALNAME:F L I
X-WR-CALDESC:Fédération Luxembourgeoise d’Improvisation
X-FROM-URL:https://fli.lu
X-WR-TIMEZONE:Europe/Luxembourg
BEGIN:VTIMEZONE
TZID:Europe/Luxembourg
X-LIC-LOCATION:Europe/Luxembourg
BEGIN:STANDARD
DTSTART:20181028T030000
TZOFFSETFROM:+0200
TZOFFSETTO:+0100
TZNAME:CET
END:STANDARD
BEGIN:DAYLIGHT
DTSTART:20180325T020000
TZOFFSETFROM:+0100
TZOFFSETTO:+0200
TZNAME:CEST
END:DAYLIGHT
END:VTIMEZONE
BEGIN:VEVENT
UID:1sefjrgfd0aiugvrij7qbjb6pk@google.com
DTSTAMP:20180701T035555Z
CATEGORIES:
CONTACT:
DESCRIPTION:https://www.facebook.com/pole.impro.luxembourg/
DTSTART;TZID=Europe/Luxembourg:20180518T203000
DTEND;TZID=Europe/Luxembourg:20180518T223000
LOCATION:Centre Culturel Altrimenti\, 5 Avenue Marie-Thérèse\, 2132 Luxembo
 urg
SEQUENCE:0
SUMMARY:POIL – Spectacle
URL:https://fli.lu/evenement/poil-spectacle-4/
X-ALT-DESC;FMTTYPE=text/html:<!DOCTYPE HTML PUBLIC '-//W3C//DTD HTML 3.2//E
 N'>\\n<HTML>\\n<HEAD>\\n<TITLE></TITLE>\\n</HEAD>\\n<BODY><p>https://www.f
 acebook.com/pole.impro.luxembourg/</p>\n</BODY></HTML>
END:VEVENT
END:VCALENDAR
