BEGIN:VCALENDAR
VERSION:2.0
PRODID:-//139.162.187.178//NONSGML kigkonsult.se iCalcreator 2.20//
CALSCALE:GREGORIAN
METHOD:PUBLISH
X-WR-CALNAME:F L I
X-WR-CALDESC:Fédération Luxembourgeoise d’Improvisation
X-FROM-URL:https://fli.lu
X-WR-TIMEZONE:Europe/Luxembourg
BEGIN:VTIMEZONE
TZID:Europe/Luxembourg
X-LIC-LOCATION:Europe/Luxembourg
BEGIN:STANDARD
DTSTART:20181028T030000
TZOFFSETFROM:+0200
TZOFFSETTO:+0100
TZNAME:CET
END:STANDARD
BEGIN:DAYLIGHT
DTSTART:20180325T020000
TZOFFSETFROM:+0100
TZOFFSETTO:+0200
TZNAME:CEST
END:DAYLIGHT
END:VTIMEZONE
BEGIN:VEVENT
UID:1jgb2k165ak04j4l1qf4tspm3l@google.com
DTSTAMP:20180701T035319Z
CATEGORIES:
CONTACT:
DESCRIPTION:
DTSTART;TZID=Europe/Luxembourg:20180421T190000
DTEND;TZID=Europe/Luxembourg:20180421T230000
SEQUENCE:0
SUMMARY:Tapaltrac: Dîner Spectacle – Le béret de la tortue
URL:https://fli.lu/evenement/tapaltrac-diner-spectacle-le-beret-de-la-tortu
 e/
X-COST-TYPE:free
END:VEVENT
END:VCALENDAR
