BEGIN:VCALENDAR
VERSION:2.0
PRODID:-//139.162.187.178//NONSGML kigkonsult.se iCalcreator 2.20//
CALSCALE:GREGORIAN
METHOD:PUBLISH
X-WR-CALNAME:F L I
X-WR-CALDESC:Fédération Luxembourgeoise d’Improvisation
X-FROM-URL:https://fli.lu
X-WR-TIMEZONE:Europe/Luxembourg
BEGIN:VTIMEZONE
TZID:Europe/Luxembourg
X-LIC-LOCATION:Europe/Luxembourg
BEGIN:STANDARD
DTSTART:20181028T030000
TZOFFSETFROM:+0200
TZOFFSETTO:+0100
TZNAME:CET
END:STANDARD
BEGIN:DAYLIGHT
DTSTART:20180325T020000
TZOFFSETFROM:+0100
TZOFFSETTO:+0200
TZNAME:CEST
END:DAYLIGHT
END:VTIMEZONE
BEGIN:VEVENT
UID:71jbbtgds8anvspigbgsnlfi9q@google.com
DTSTAMP:20180701T034439Z
CATEGORIES:
CONTACT:
DESCRIPTION:</p>\n<h1>TOTEM – Spectacle d’improvisation théâtrale – Scène o
 uverte</h1>\n<p><span>Public</span><br />· Organisé par <a href='https://w
 ww.google.com/url?q=https%3A%2F%2Fwww.facebook.com%2FimproMinouMetz%2F&sa=
 D&usd=2&usg=AFQjCNG4dzOMMhUSlV3GP0rJRlwa3dcn7g' target='_blank'>Le Minou\,
  ligue d’improvisation théâtrale de Metz</a><br />+ d’infos : <a href='htt
 ps://www.google.com/url?q=https%3A%2F%2Fwww.facebook.com%2Fevents%2F290721
 254785079%2F&sa=D&usd=2&usg=AFQjCNEdD1SjSAfhnnA0CMQwTyChbtLTmQ' target='_b
 lank'>https://www.facebook.com/events/290721254785079/</a></p>
DTSTART;TZID=Europe/Luxembourg:20180118T203000
DTEND;TZID=Europe/Luxembourg:20180118T223000
LOCATION:La Jehanne\, 2 bis\, place Jeanne d'Arc\, 57000 Metz\, France
SEQUENCE:0
SUMMARY:LE MINOU – Café La Jehanne à Metz – Scène ouverte format Totem
URL:https://fli.lu/evenement/le-minou-cafe-la-jehanne-a-metz-scene-ouverte-
 format-totem/
END:VEVENT
END:VCALENDAR
