BEGIN:VCALENDAR
VERSION:2.0
PRODID:-//139.162.187.178//NONSGML kigkonsult.se iCalcreator 2.20//
CALSCALE:GREGORIAN
METHOD:PUBLISH
X-WR-CALNAME:F L I
X-WR-CALDESC:Fédération Luxembourgeoise d’Improvisation
X-FROM-URL:https://fli.lu
X-WR-TIMEZONE:Europe/Luxembourg
BEGIN:VTIMEZONE
TZID:Europe/Luxembourg
X-LIC-LOCATION:Europe/Luxembourg
BEGIN:STANDARD
DTSTART:20181028T030000
TZOFFSETFROM:+0200
TZOFFSETTO:+0100
TZNAME:CET
END:STANDARD
BEGIN:DAYLIGHT
DTSTART:20180325T020000
TZOFFSETFROM:+0100
TZOFFSETTO:+0200
TZNAME:CEST
END:DAYLIGHT
END:VTIMEZONE
BEGIN:VEVENT
UID:37l6l849cba1pl86r5vbir3o8c@google.com
DTSTAMP:20180701T034600Z
CATEGORIES:
CONTACT:
DESCRIPTION:<h1>Match d’impro : Le Minou vs La LIFA (Paris)</h1>\n<p><span>
 Public</span></p>\n<p>· Organisé par <a href='https://www.google.com/url?q
 =https%3A%2F%2Fwww.facebook.com%2FimproMinouMetz%2F&sa=D&usd=2&usg=AFQjCNG
 4dzOMMhUSlV3GP0rJRlwa3dcn7g' target='_blank'>Le Minou\, ligue d’improvisat
 ion théâtrale de Metz</a><br />+ d’infos : <a href='https://www.google.com
 /url?q=https%3A%2F%2Fwww.facebook.com%2FimproMinouMetz%2F&sa=D&usd=2&usg=A
 FQjCNG4dzOMMhUSlV3GP0rJRlwa3dcn7g' target='_blank'>https://www.facebook.co
 m/events/321836774987327/</a></p>
DTSTART;TZID=Europe/Luxembourg:20180127T200000
DTEND;TZID=Europe/Luxembourg:20180127T223000
LOCATION:Salle Braun\, 18 Avenue Mozart\, 57000 Metz\, France
SEQUENCE:0
SUMMARY:Le MINOU – Salle Braun à Metz – Match avec la LIFA (Paris)
URL:https://fli.lu/evenement/le-minou-salle-braun-a-metz-match-avec-la-lifa
 -paris/
END:VEVENT
END:VCALENDAR
