BEGIN:VCALENDAR
VERSION:2.0
PRODID:-//139.162.187.178//NONSGML kigkonsult.se iCalcreator 2.20//
CALSCALE:GREGORIAN
METHOD:PUBLISH
X-WR-CALNAME:F L I
X-WR-CALDESC:Fédération Luxembourgeoise d’Improvisation
X-FROM-URL:https://fli.lu
X-WR-TIMEZONE:Europe/Luxembourg
BEGIN:VTIMEZONE
TZID:Europe/Luxembourg
X-LIC-LOCATION:Europe/Luxembourg
BEGIN:STANDARD
DTSTART:20181028T030000
TZOFFSETFROM:+0200
TZOFFSETTO:+0100
TZNAME:CET
END:STANDARD
BEGIN:DAYLIGHT
DTSTART:20180325T020000
TZOFFSETFROM:+0100
TZOFFSETTO:+0200
TZNAME:CEST
END:DAYLIGHT
END:VTIMEZONE
BEGIN:VEVENT
UID:6g31an9pq10h5blm6bd5s54qc9@google.com
DTSTAMP:20180701T034719Z
CATEGORIES:
CONTACT:
DESCRIPTION:https://canopee-asbl.com/2018/01/17/atelier-de-contact-et-theat
 re-improvisation/
DTSTART;TZID=Europe/Luxembourg:20180204T140000
DTEND;TZID=Europe/Luxembourg:20180204T180000
LOCATION:Hariko\, 1 Dernier Sol\, 2543 Luxembourg
SEQUENCE:0
SUMMARY:Atelier de contact + théâtre d’improvisation -A partir de 14 ans
URL:https://fli.lu/evenement/atelier-de-contact-theatre-dimprovisation-a-pa
 rtir-de-14-ans/
X-ALT-DESC;FMTTYPE=text/html:<!DOCTYPE HTML PUBLIC '-//W3C//DTD HTML 3.2//E
 N'>\\n<HTML>\\n<HEAD>\\n<TITLE></TITLE>\\n</HEAD>\\n<BODY><p><span><a href
 ='https://canopee-asbl.com/2018/01/17/atelier-de-contact-et-theatre-improv
 isation/' rel='nofollow' target='_blank'><span>https://canopee-asbl.com/</
 span><span></span><span></span><span>2018/01/17/</span><span></span><span>
 </span><span>atelier-de-contact-et-theat</span><span></span><span></span>r
 e-improvisation/</a></span></p>\n</BODY></HTML>
END:VEVENT
END:VCALENDAR
