BEGIN:VCALENDAR
VERSION:2.0
PRODID:-//139.162.187.178//NONSGML kigkonsult.se iCalcreator 2.20//
CALSCALE:GREGORIAN
METHOD:PUBLISH
X-WR-CALNAME:F L I
X-WR-CALDESC:Fédération Luxembourgeoise d’Improvisation
X-FROM-URL:https://fli.lu
X-WR-TIMEZONE:Europe/Luxembourg
BEGIN:VTIMEZONE
TZID:Europe/Luxembourg
X-LIC-LOCATION:Europe/Luxembourg
BEGIN:STANDARD
DTSTART:20181028T030000
TZOFFSETFROM:+0200
TZOFFSETTO:+0100
TZNAME:CET
END:STANDARD
BEGIN:DAYLIGHT
DTSTART:20180325T020000
TZOFFSETFROM:+0100
TZOFFSETTO:+0200
TZNAME:CEST
END:DAYLIGHT
END:VTIMEZONE
BEGIN:VEVENT
UID:69fk0u3kanrkq73mjp3bmlv7u7@google.com
DTSTAMP:20180701T035757Z
CATEGORIES:
CONTACT:
DESCRIPTION:Plus de précisions sous peu
DTSTART;TZID=Europe/Luxembourg:20180609T200000
DTEND;TZID=Europe/Luxembourg:20180609T220000
LOCATION:Saint-Léger\, 6747 Saint-Léger\, Belgique
SEQUENCE:0
SUMMARY:DRAMES DU CERF – Match contre l’Habérézina
URL:https://fli.lu/evenement/drames-du-cerf-match-contre-lhaberezina/
X-ALT-DESC;FMTTYPE=text/html:<!DOCTYPE HTML PUBLIC '-//W3C//DTD HTML 3.2//E
 N'>\\n<HTML>\\n<HEAD>\\n<TITLE></TITLE>\\n</HEAD>\\n<BODY><p>Plus de préci
 sions sous peu</p>\n</BODY></HTML>
END:VEVENT
END:VCALENDAR
