BEGIN:VCALENDAR
VERSION:2.0
PRODID:-//139.162.187.178//NONSGML kigkonsult.se iCalcreator 2.20//
CALSCALE:GREGORIAN
METHOD:PUBLISH
X-WR-CALNAME:F L I
X-WR-CALDESC:Fédération Luxembourgeoise d’Improvisation
X-FROM-URL:https://fli.lu
X-WR-TIMEZONE:Europe/Luxembourg
BEGIN:VTIMEZONE
TZID:Europe/Luxembourg
X-LIC-LOCATION:Europe/Luxembourg
BEGIN:STANDARD
DTSTART:20181028T030000
TZOFFSETFROM:+0200
TZOFFSETTO:+0100
TZNAME:CET
END:STANDARD
BEGIN:DAYLIGHT
DTSTART:20180325T020000
TZOFFSETFROM:+0100
TZOFFSETTO:+0200
TZNAME:CEST
END:DAYLIGHT
END:VTIMEZONE
BEGIN:VEVENT
UID:1p95p4n7g78ie557c67egpco67@google.com
DTSTAMP:20180701T034621Z
CATEGORIES:
CONTACT:
DESCRIPTION:<p>Envie de découvrir l’impro ?<br />\nEnvie de créer des histo
 ires extraordinaires ?<br />\nEnvie de devenir Chevalier\, extra-terrestre
 \, magicienne\, conducteur de camion ou lutin ?</p>\n<p>Après le succès de
  la journée découverte du 14 janvier\, le Centre Culturel de Habay et L’Ha
 bérézina vous proposent un atelier d’initiation à l’improvisation théâtral
 e.<br />\nDurant 12 soirées (le mercredi soir)\, différents improvisateurs
  de l’Habérézina vous proposeront de nombreux exercices pour vous faire dé
 couvrir l’impro.</p>\n<p>L’atelier est ouvert aux adultes (et jeunes à par
 tir de 18 ans).</p>\n<p>12 séances à partir du mercredi 31 janvier jusqu’a
 u mercredi 9 mai – 65 €<br />\nPrévoir des baskets et une tenue souple qui
  permettent de bouger\,<br />\nMin 10 participants – max 14 participants</
 p>\n<p>Inscriptions obligatoires auprès du Centre Culturel de Habay : info
 @habay-culture.be ou au 063 42 41 07.  </p>\n<p>https://www.facebook.com/e
 vents/138818183466332/</p>\n<blockquote class='wp-embedded-content' data-s
 ecret='OkdLRGZr6O'><p><a href='http://www.habay-culture.be/ateliers-annuel
 s/adultes/nouveaux-ateliers-2018/'>NOUVEAUX ATELIERS 2018</a></p></blockqu
 ote>\n<p><iframe class='wp-embedded-content' sandbox='allow-scripts' secur
 ity='restricted' style='position: absolute\; clip: rect(1px\, 1px\, 1px\, 
 1px)\;' src='http://www.habay-culture.be/ateliers-annuels/adultes/nouveaux
 -ateliers-2018/embed/#?secret=OkdLRGZr6O' data-secret='OkdLRGZr6O' width='
 600' height='338' title='« NOUVEAUX ATELIERS 2018 » — Centre culturel de H
 abay' frameborder='0' marginwidth='0' marginheight='0' scrolling='no'></if
 rame></p>
DTSTART;TZID=Europe/Luxembourg:20180131T200000
DTEND;TZID=Europe/Luxembourg:20180131T223000
LOCATION:Habay-la-Neuve\, 6720 Habay\, Belgique
SEQUENCE:0
SUMMARY:L’Habérézina – Atelier d’initiation à l’improvisation théâtrale
URL:https://fli.lu/evenement/lhaberezina-atelier-dinitiation-a-limprovisati
 on-theatrale/
X-COST-TYPE:free
END:VEVENT
END:VCALENDAR
