BEGIN:VCALENDAR
VERSION:2.0
PRODID:-//139.162.187.178//NONSGML kigkonsult.se iCalcreator 2.20//
CALSCALE:GREGORIAN
METHOD:PUBLISH
X-WR-CALNAME:F L I
X-WR-CALDESC:Fédération Luxembourgeoise d’Improvisation
X-FROM-URL:https://fli.lu
X-WR-TIMEZONE:Europe/Luxembourg
BEGIN:VTIMEZONE
TZID:Europe/Luxembourg
X-LIC-LOCATION:Europe/Luxembourg
BEGIN:STANDARD
DTSTART:20181028T030000
TZOFFSETFROM:+0200
TZOFFSETTO:+0100
TZNAME:CET
END:STANDARD
BEGIN:DAYLIGHT
DTSTART:20180325T020000
TZOFFSETFROM:+0100
TZOFFSETTO:+0200
TZNAME:CEST
END:DAYLIGHT
END:VTIMEZONE
BEGIN:VEVENT
UID:2lkb8bcr0lmustbjd3anu2s0d9@google.com
DTSTAMP:20180701T034814Z
CATEGORIES:
CONTACT:
DESCRIPTION:Un Spectacle d’Improvisation Théâtrale\, ça a le gout du théâtr
 e en bien plus explosif\, et pour cause : les comédiens ne savent pas ce q
 u’ils vont jouer ! Histoires courtes\, longues\, drôles\, émouvantes… c’es
 t vous\, public qui en déciderez.\n On vous attend donc avec toute notre c
 réativité et notre humour pour entreprendre ensemble un voyage à travers n
 os histoires.\nEntrée gratuite mais sortie aux chapeaupas de réservation\,
  donc il faut être là un peu plus tôt\nles détails bientôt
DTSTART;TZID=Europe/Luxembourg:20180215T203000
DTEND;TZID=Europe/Luxembourg:20180215T230000
LOCATION:Gîte Jeanne d'Arc\, Place Jeanne d'Arc\, 57000 Metz\, France
SEQUENCE:0
SUMMARY:Spectacle d’Improvisation Théâtrale avec le Bordel
URL:https://fli.lu/evenement/spectacle-dimprovisation-theatrale-avec-le-bor
 del/
X-ALT-DESC;FMTTYPE=text/html:<!DOCTYPE HTML PUBLIC '-//W3C//DTD HTML 3.2//E
 N'>\\n<HTML>\\n<HEAD>\\n<TITLE></TITLE>\\n</HEAD>\\n<BODY><p><span>Un Spec
 tacle d’Improvisation Théâtrale\, ça a le gout du théâtre en bien plus exp
 losif\, et pour cause : les comédiens ne savent pas ce qu’ils vont jouer !
 <br /> Histoires courtes\, longues\, drôles\, émouvantes… c’est vous\, pub
 lic qui en déciderez.</p>\n<p> On vous attend donc avec toute notre créati
 vité et notre humour pour entreprendre ensemble un voyage à travers nos hi
 stoires.</p>\n<p></span><span>Entrée gratuite mais sortie aux chapeau<br /
 ></span><span>pas de réservation\, donc il faut être là un peu plus tôt</p
 >\n<p></span><span>les détails bientôt<br /></span></p>\n</BODY></HTML>
END:VEVENT
END:VCALENDAR
