BEGIN:VCALENDAR
VERSION:2.0
PRODID:-//139.162.187.178//NONSGML kigkonsult.se iCalcreator 2.20//
CALSCALE:GREGORIAN
METHOD:PUBLISH
X-WR-CALNAME:F L I
X-WR-CALDESC:Fédération Luxembourgeoise d’Improvisation
X-FROM-URL:https://fli.lu
X-WR-TIMEZONE:Europe/Luxembourg
BEGIN:VTIMEZONE
TZID:Europe/Luxembourg
X-LIC-LOCATION:Europe/Luxembourg
BEGIN:STANDARD
DTSTART:20181028T030000
TZOFFSETFROM:+0200
TZOFFSETTO:+0100
TZNAME:CET
END:STANDARD
BEGIN:DAYLIGHT
DTSTART:20180325T020000
TZOFFSETFROM:+0100
TZOFFSETTO:+0200
TZNAME:CEST
END:DAYLIGHT
END:VTIMEZONE
BEGIN:VEVENT
UID:0ht5kshctd3gmgf4ndumben2v5@google.com
DTSTAMP:20180701T034752Z
CATEGORIES:
CONTACT:
DESCRIPTION:Votre duo d’impro longue préféré revient avec son tout nouveau 
 spectacle: DESSINE-MOI UNE HISTOIRE.\nPour cette soirée exceptionnelle\, T
 out Nu(e)S reçoit deux talentueux improvisateurs venant de Belgique et de 
 France. \nLaissez-vous embarquer dans deux impros de 45 minutes jouées par
  ce quatuor éphémère!\nPrix: 8 euros\nRéservation fortemement conseillée: 
 toutnues@gmail.com  \nhttps://www.facebook.com/events/113601736119585/
DTSTART;TZID=Europe/Luxembourg:20180206T200000
DTEND;TZID=Europe/Luxembourg:20180206T220000
LOCATION:Konrad Café & Bar\, 7 Rue du N\, 2229 Luxembourg
SEQUENCE:0
SUMMARY:Tout Nu(e)S – spectacle d’improvisation longue
URL:https://fli.lu/evenement/tout-nues-spectacle-dimprovisation-longue/
X-ALT-DESC;FMTTYPE=text/html:<!DOCTYPE HTML PUBLIC '-//W3C//DTD HTML 3.2//E
 N'>\\n<HTML>\\n<HEAD>\\n<TITLE></TITLE>\\n</HEAD>\\n<BODY><p>Votre duo d’i
 mpro longue préféré revient avec son tout nouveau spectacle: DESSINE-MOI U
 NE HISTOIRE.</p>\n<p>Pour cette soirée exceptionnelle\, Tout Nu(e)S reçoit
  deux talentueux improvisateurs venant de Belgique et de France. </p>\n<p>
 Laissez-vous embarquer dans deux impros de 45 minutes jouées par ce quatuo
 r éphémère!</p>\n<p>Prix: 8 euros</p>\n<p>Réservation fortemement conseill
 ée: toutnues@gmail.com  </p>\n<p>https://www.facebook.com/events/113601736
 119585/</p>\n</BODY></HTML>
END:VEVENT
END:VCALENDAR
