BEGIN:VCALENDAR
VERSION:2.0
PRODID:-//139.162.187.178//NONSGML kigkonsult.se iCalcreator 2.20//
CALSCALE:GREGORIAN
METHOD:PUBLISH
X-WR-CALNAME:F L I
X-WR-CALDESC:Fédération Luxembourgeoise d’Improvisation
X-FROM-URL:https://fli.lu
X-WR-TIMEZONE:Europe/Luxembourg
BEGIN:VTIMEZONE
TZID:Europe/Luxembourg
X-LIC-LOCATION:Europe/Luxembourg
BEGIN:STANDARD
DTSTART:20181028T030000
TZOFFSETFROM:+0200
TZOFFSETTO:+0100
TZNAME:CET
END:STANDARD
BEGIN:DAYLIGHT
DTSTART:20180325T020000
TZOFFSETFROM:+0100
TZOFFSETTO:+0200
TZNAME:CEST
END:DAYLIGHT
END:VTIMEZONE
BEGIN:VEVENT
UID:3vaea9quorac7fbgndjat5lr1a@google.com
DTSTAMP:20180701T034841Z
CATEGORIES:
CONTACT:
DESCRIPTION:Match d’impro : Le Minou vs La LIFA (Paris)\nPublic\n· Organisé
  par Le Minou\, ligue d’improvisation théâtrale de Metz+ d’infos prochaine
 ment : https://www.facebook.com/pg/improMinouMetz/events/?ref=page_interna
 l
DTSTART;TZID=Europe/Luxembourg:20180217T200000
DTEND;TZID=Europe/Luxembourg:20180217T223000
LOCATION:Salle Braun\, 18 Avenue Mozart\, 57000 Metz\, France
SEQUENCE:0
SUMMARY:Le MINOU – Salle Braun à Metz – Match avec les Fondus (Aix)
URL:https://fli.lu/evenement/le-minou-salle-braun-a-metz-match-avec-les-fon
 dus-aix/
X-ALT-DESC;FMTTYPE=text/html:<!DOCTYPE HTML PUBLIC '-//W3C//DTD HTML 3.2//E
 N'>\\n<HTML>\\n<HEAD>\\n<TITLE></TITLE>\\n</HEAD>\\n<BODY><h1>Match d’impr
 o : Le Minou vs La LIFA (Paris)</h1>\n<p><span>Public</span></p>\n<p>· Org
 anisé par <a href='https://www.google.com/url?q=https%3A%2F%2Fwww.facebook
 .com%2FimproMinouMetz%2F&sa=D&usd=2&usg=AFQjCNG4dzOMMhUSlV3GP0rJRlwa3dcn7g
 ' target='_blank'>Le Minou\, ligue d’improvisation théâtrale de Metz</a><b
 r />+ d’infos prochainement : <a href='https://www.google.com/url?q=https%
 3A%2F%2Fwww.facebook.com%2FimproMinouMetz%2F&sa=D&usd=2&usg=AFQjCNG4dzOMMh
 USlV3GP0rJRlwa3dcn7g' target='_blank'>https://www.facebook.com/pg/improMin
 ouMetz/events/?ref=page_internal</a></p>\n</BODY></HTML>
END:VEVENT
END:VCALENDAR
