BEGIN:VCALENDAR
VERSION:2.0
PRODID:-//139.162.187.178//NONSGML kigkonsult.se iCalcreator 2.20//
CALSCALE:GREGORIAN
METHOD:PUBLISH
X-WR-CALNAME:F L I
X-WR-CALDESC:Fédération Luxembourgeoise d’Improvisation
X-FROM-URL:https://fli.lu
X-WR-TIMEZONE:Europe/Luxembourg
BEGIN:VTIMEZONE
TZID:Europe/Luxembourg
X-LIC-LOCATION:Europe/Luxembourg
BEGIN:STANDARD
DTSTART:20181028T030000
TZOFFSETFROM:+0200
TZOFFSETTO:+0100
TZNAME:CET
END:STANDARD
BEGIN:DAYLIGHT
DTSTART:20180325T020000
TZOFFSETFROM:+0100
TZOFFSETTO:+0200
TZNAME:CEST
END:DAYLIGHT
END:VTIMEZONE
BEGIN:VEVENT
UID:0k9t3d42eqsoi7hli1n8tbm5fe@google.com
DTSTAMP:20180701T034650Z
CATEGORIES:
CONTACT:
DESCRIPTION:TOTEM – Spectacle d’improvisation théâtrale – Scène ouverte\nPu
 blic· Organisé par Le Minou\, ligue d’improvisation théâtrale de Metz+ d’i
 nfos : https://www.facebook.com/events/588452198157514/
DTSTART;TZID=Europe/Luxembourg:20180203T203000
DTEND;TZID=Europe/Luxembourg:20180203T223000
LOCATION:Maison de la Culture et des Loisirs\, 36 Rue Saint-Marcel\, 57000 
 Metz\, France
SEQUENCE:0
SUMMARY:LE MINOU – MCL à Metz – Catch Chaton/Matou
URL:https://fli.lu/evenement/le-minou-mcl-a-metz-catch-chaton-matou/
X-ALT-DESC;FMTTYPE=text/html:<!DOCTYPE HTML PUBLIC '-//W3C//DTD HTML 3.2//E
 N'>\\n<HTML>\\n<HEAD>\\n<TITLE></TITLE>\\n</HEAD>\\n<BODY></p>\n<h1>TOTEM 
 – Spectacle d’improvisation théâtrale – Scène ouverte</h1>\n<p><span>Publi
 c</span><br />· Organisé par <a href='https://www.google.com/url?q=https%3
 A%2F%2Fwww.facebook.com%2FimproMinouMetz%2F&sa=D&usd=2&usg=AFQjCNG4dzOMMhU
 SlV3GP0rJRlwa3dcn7g' target='_blank'>Le Minou\, ligue d’improvisation théâ
 trale de Metz</a><br />+ d’infos : https://www.facebook.com/events/5884521
 98157514/</p>\n</BODY></HTML>
END:VEVENT
END:VCALENDAR
