BEGIN:VCALENDAR
VERSION:2.0
PRODID:-//139.162.187.178//NONSGML kigkonsult.se iCalcreator 2.20//
CALSCALE:GREGORIAN
METHOD:PUBLISH
X-WR-CALNAME:F L I
X-WR-CALDESC:Fédération Luxembourgeoise d’Improvisation
X-FROM-URL:https://fli.lu
X-WR-TIMEZONE:Europe/Luxembourg
BEGIN:VTIMEZONE
TZID:Europe/Luxembourg
X-LIC-LOCATION:Europe/Luxembourg
BEGIN:STANDARD
DTSTART:20181028T030000
TZOFFSETFROM:+0200
TZOFFSETTO:+0100
TZNAME:CET
END:STANDARD
BEGIN:DAYLIGHT
DTSTART:20180325T020000
TZOFFSETFROM:+0100
TZOFFSETTO:+0200
TZNAME:CEST
END:DAYLIGHT
END:VTIMEZONE
BEGIN:VEVENT
UID:3v5a3ja5pc72p19avjb2hfmhs4@google.com
DTSTAMP:20180701T034942Z
CATEGORIES:
CONTACT:
DESCRIPTION:En ce mois de février\, mois de la Saint-Valentin\, des vacance
 s au ski\, des journées trop courtes\, de l’hiver qui n’en finit plus\, la
  PETACO vous invite à son petit théâtre installé sur la scène du Gudde Wël
 len.\nPour cette soirée\, les 5 improvisateurs évolueront dans un décor qu
 ’ils découvriront avec vous pour garantir le plus beau des voyages.\nJe ne
  vous en dis pas plus…\nCe qu’on préfère dans ces soirées-là\, c’est d’êtr
 e surpris non?\nFaites-nous confiance\, comme toujours\, et promis tout se
  passera bien!\nPour réserver ta place et être des nôtres\, envoie un mail
  à resa@petaco.lu.  \nhttps://www.facebook.com/events/1527346710654150/
DTSTART;TZID=Europe/Luxembourg:20180227T203000
DTEND;TZID=Europe/Luxembourg:20180227T230000
LOCATION:De Gudde Wëllen\, 17 Rue du St Esprit\, 1475 Luxembourg
SEQUENCE:0
SUMMARY:PETACO – Le théâtre improvisé de la Petite troupe d’à côté
URL:https://fli.lu/evenement/petaco-le-theatre-improvise-de-la-petite-troup
 e-da-cote/
X-ALT-DESC;FMTTYPE=text/html:<!DOCTYPE HTML PUBLIC '-//W3C//DTD HTML 3.2//E
 N'>\\n<HTML>\\n<HEAD>\\n<TITLE></TITLE>\\n</HEAD>\\n<BODY><p>En ce mois de
  février\, mois de la Saint-Valentin\, des vacances au ski\, des journées 
 trop courtes\, de l’hiver qui n’en finit plus\, la PETACO vous invite à so
 n petit théâtre installé sur la scène du Gudde Wëllen.</p>\n<p>Pour cette 
 soirée\, les 5 improvisateurs évolueront dans un décor qu’ils découvriront
  avec vous pour garantir le plus beau des voyages.</p>\n<p>Je ne vous en d
 is pas plus…<br />\nCe qu’on préfère dans ces soirées-là\, c’est d’être su
 rpris non?<br />\nFaites-nous confiance\, comme toujours\, et promis tout 
 se passera bien!<br />\nPour réserver ta place et être des nôtres\, envoie
  un mail à resa@petaco.lu.  </p>\n<p>https://www.facebook.com/events/15273
 46710654150/ </p>\n</BODY></HTML>
END:VEVENT
END:VCALENDAR
