BEGIN:VCALENDAR
VERSION:2.0
PRODID:-//139.162.187.178//NONSGML kigkonsult.se iCalcreator 2.20//
CALSCALE:GREGORIAN
METHOD:PUBLISH
X-WR-CALNAME:F L I
X-WR-CALDESC:Fédération Luxembourgeoise d’Improvisation
X-FROM-URL:https://fli.lu
X-WR-TIMEZONE:Europe/Luxembourg
BEGIN:VTIMEZONE
TZID:Europe/Luxembourg
X-LIC-LOCATION:Europe/Luxembourg
BEGIN:STANDARD
DTSTART:20181028T030000
TZOFFSETFROM:+0200
TZOFFSETTO:+0100
TZNAME:CET
END:STANDARD
BEGIN:DAYLIGHT
DTSTART:20180325T020000
TZOFFSETFROM:+0100
TZOFFSETTO:+0200
TZNAME:CEST
END:DAYLIGHT
END:VTIMEZONE
BEGIN:VEVENT
UID:5vaaadf6nh2pb42qdr0ntne89f@google.com
DTSTAMP:20180701T035045Z
CATEGORIES:
CONTACT:
DESCRIPTION:Le samedi 17 mars à 20h à la salle de spectacle du CNDB Rue Cha
 noine Crousse 1\, 6760 Virton aura lieu le spectacle d’improvisation théât
 rale organisé par l’unité Scoute de Villers-la-Loue et L’Habérézina.\nCett
 e année s’affrontent les équipes de l’Habérézina (Habay) et L’Atim (Mons).
 Du beau spectacle\, du sport et de l’animation en perspective !\nRéservez 
 dès à présent par mail à l’adresse unite@scoutsvillers.be ou par téléphone
  au 063/44 53 57 après 18h (ou par sms 0475 625 803). https://www.facebook
 .com/events/183374978931170/
DTSTART;TZID=Europe/Luxembourg:20180317T200000
DTEND;TZID=Europe/Luxembourg:20180317T230000
LOCATION:pin CNDB Rue Chanoine Crousse 1\, 6760 Virton
SEQUENCE:0
SUMMARY:Rencontre d’Impro – L’Habérézina vs L’ATIM (Mons)
URL:https://fli.lu/evenement/rencontre-dimpro-lhaberezina-vs-latim-mons/
X-COST-TYPE:free
X-ALT-DESC;FMTTYPE=text/html:<!DOCTYPE HTML PUBLIC '-//W3C//DTD HTML 3.2//E
 N'>\\n<HTML>\\n<HEAD>\\n<TITLE></TITLE>\\n</HEAD>\\n<BODY><p><span>Le same
 di 17 mars à 20h à la salle de spectacle du CNDB Rue Chanoine Crousse 1\, 
 6760 Virton aura lieu le spectacle d’improvisation théâtrale organisé par 
 l’unité Scoute de Villers-la-Loue et L’Habérézina.</span></p>\n<p><span>Ce
 tte année s’affrontent les équipes de l’Habérézina (Habay) et L’Atim (Mons
 ).</span><br /><span>Du beau spectacle\, du sport et de l’animation en per
 spective !</span></p>\n<p><span>Réservez dès à présent par mail à l’adress
 e <a href='mailto:unite@scoutsvillers.be' target='_blank'>unite@scoutsvill
 ers.be</a> ou par téléphone au 063/44 53 57 après 18h (ou par sms 0475 625
  803). </span><br /><span><br /></span><br /><span><a href='https://www.fa
 cebook.com/events/183374978931170/'><font color='#4b4f56' face='Helvetica\
 , Arial\, sans-serif'></font></a><font color='#4b4f56' face='Helvetica\, A
 rial\, sans-serif'><a target='_blank'>https://www.facebook.com/events/1833
 74978931170/</a></font><br /></span></p>\n</BODY></HTML>
END:VEVENT
END:VCALENDAR
