BEGIN:VCALENDAR
VERSION:2.0
PRODID:-//139.162.187.178//NONSGML kigkonsult.se iCalcreator 2.20//
CALSCALE:GREGORIAN
METHOD:PUBLISH
X-WR-CALNAME:F L I
X-WR-CALDESC:Fédération Luxembourgeoise d’Improvisation
X-FROM-URL:https://fli.lu
X-WR-TIMEZONE:Europe/Luxembourg
BEGIN:VTIMEZONE
TZID:Europe/Luxembourg
X-LIC-LOCATION:Europe/Luxembourg
BEGIN:STANDARD
DTSTART:20181028T030000
TZOFFSETFROM:+0200
TZOFFSETTO:+0100
TZNAME:CET
END:STANDARD
BEGIN:DAYLIGHT
DTSTART:20180325T020000
TZOFFSETFROM:+0100
TZOFFSETTO:+0200
TZNAME:CEST
END:DAYLIGHT
END:VTIMEZONE
BEGIN:VEVENT
UID:7rv8c45llhh3bktsh4brjq3jea@google.com
DTSTAMP:20180701T035103Z
CATEGORIES:
CONTACT:
DESCRIPTION:<p><span><br />Le Bordel est heureux de vous présenter son nouv
 eau spectacle:</p>\n<p> 2039\, la terre ne suffit plus aux milliardaires p
 hilanthropes. L’espace est devenu la nouvelle piste de leur course à l’ego
 . </p>\n<p> Aujourd’hui signe le départ de la mission interstellaire la pl
 us ambitieuse jamais réalisée. Paul Seldon\, le magnat de la publicité int
 racrânienne\, a affrété un vaisseau pour partir à la conquête de la planèt
 e Corino. <br /> 70 colons triés sur le volet embarquent pour plusieurs di
 zaines d’années\, dans un voyage sans retour vers ce nouveau foyer de l’es
 pèce humaine.</p>\n<p> Avant de quitter l’orbite terrestre\, les cryo-sarc
 ophages sont activés. Les passagers et l’équipage s’endorment. </p>\n<p> A
  leur réveil\, Corino devrait être visible à l’œil nu…</p>\n<p>———————————
 ————–</p>\n<p></span></p>\n<p>Vous souhaitez devenir un pionnier? Embarque
 z à bord du Space Bienveillance et partez à la découverte de la planète Co
 rino! <br /> Envoyez votre demande de réservation à lebordel.impro@gmail.c
 om en mentionnant votre Nom\, Prénom et le nombre de billets voulus. </p>
 \n<p> Nous ne sélectionnerons que les meilleurs et les plus réactifs !</p>
 \n<div class='text_exposed_show'>\n<p> Tricia Idaho\,<br /> Chargée de rec
 rutement<br /> Mission Corino</p>\n<p><span></span></p>
DTSTART;TZID=Europe/Luxembourg:20180317T203000
DTEND;TZID=Europe/Luxembourg:20180317T223000
LOCATION:MJC 4 Bornes\, Rue Etienne Gantrel\, 57050 Metz\, France
SEQUENCE:0
SUMMARY:Le Borde impro Metz – Pionniers
URL:https://fli.lu/evenement/le-borde-impro-metz-pionniers/
END:VEVENT
END:VCALENDAR
