BEGIN:VCALENDAR
VERSION:2.0
PRODID:-//139.162.187.178//NONSGML kigkonsult.se iCalcreator 2.20//
CALSCALE:GREGORIAN
METHOD:PUBLISH
X-WR-CALNAME:F L I
X-WR-CALDESC:Fédération Luxembourgeoise d’Improvisation
X-FROM-URL:https://fli.lu
X-WR-TIMEZONE:Europe/Luxembourg
BEGIN:VTIMEZONE
TZID:Europe/Luxembourg
X-LIC-LOCATION:Europe/Luxembourg
BEGIN:STANDARD
DTSTART:20181028T030000
TZOFFSETFROM:+0200
TZOFFSETTO:+0100
TZNAME:CET
END:STANDARD
BEGIN:DAYLIGHT
DTSTART:20180325T020000
TZOFFSETFROM:+0100
TZOFFSETTO:+0200
TZNAME:CEST
END:DAYLIGHT
END:VTIMEZONE
BEGIN:VEVENT
UID:1gh20vdpaohqu57v1q7s7gkpvd@google.com
DTSTAMP:20180701T035658Z
CATEGORIES:
CONTACT:
DESCRIPTION:Un Spectacle d’Improvisation Théâtrale\, ça a le gout du théâtr
 e en bien plus explosif\, et pour cause : les comédiens ne savent pas ce q
 u’ils vont jouer ! Histoires courtes\, longues\, drôles\, émouvantes… c’es
 t vous\, public qui en déciderez.\n On vous attend donc avec toute notre c
 réativité et notre humour pour entreprendre ensemble un voyage à travers n
 os histoires. L’entrée est à 6€ (mais il existe des tarifs réduits).\n Pou
 r réserver\, merci d’envoyer un message à l’adresse lebordel.impro@gmail.c
 om\, en mentionnant votre nom\, votre prénom et le nombre de places désiré
 es. \n Pour tous renseignements\, nous contacter en nous envoyant un messa
 ge privé ou contacter la MJC des 4 Bornes au 03 87 31 19 87 (9h-12h et 14h
 -18h)
DTSTART;TZID=Europe/Luxembourg:20180602T203000
DTEND;TZID=Europe/Luxembourg:20180602T223000
LOCATION:MJC 4 Bornes\, Rue Etienne Gantrel\, 57050 Metz\, France
SEQUENCE:0
SUMMARY:Le Bordel – Spectacle d’impro MJC 4 bornes
URL:https://fli.lu/evenement/le-bordel-spectacle-dimpro-mjc-4-bornes/
X-ALT-DESC;FMTTYPE=text/html:<!DOCTYPE HTML PUBLIC '-//W3C//DTD HTML 3.2//E
 N'>\\n<HTML>\\n<HEAD>\\n<TITLE></TITLE>\\n</HEAD>\\n<BODY><p><span class='
 _4n-j _3cht fsl'>Un Spectacle d’Improvisation Théâtrale\, ça a le gout du 
 théâtre en bien plus explosif\, et pour cause : les comédiens ne savent pa
 s ce qu’ils vont jouer !<br /> Histoires courtes\, longues\, drôles\, émou
 vantes… c’est vous\, public qui en déciderez.</p>\n<p> On vous attend donc
  avec toute notre créativité et notre humour pour entreprendre ensemble un
  voyage à travers nos histoires.<br /> L’entrée est à 6€ (mais il existe d
 es tarifs réduits).</p>\n<p> Pour réserver\, merci d’envoyer un message à 
 l’adresse lebordel.impro@gmail.com\, en mentionnant votre nom\, votre prén
 om et le nombre de places désirées. </p>\n<p> Pour tous renseignements\, n
 ous contacter en nous envoyant un message privé ou contacter la MJC des 4 
 Bornes au 03 87 31 19 87 (9h-12h et 14h-18h)</span></p>\n</BODY></HTML>
END:VEVENT
END:VCALENDAR
