BEGIN:VCALENDAR
VERSION:2.0
PRODID:-//139.162.187.178//NONSGML kigkonsult.se iCalcreator 2.20//
CALSCALE:GREGORIAN
METHOD:PUBLISH
X-WR-CALNAME:F L I
X-WR-CALDESC:Fédération Luxembourgeoise d’Improvisation
X-FROM-URL:https://fli.lu
X-WR-TIMEZONE:Europe/Luxembourg
BEGIN:VTIMEZONE
TZID:Europe/Luxembourg
X-LIC-LOCATION:Europe/Luxembourg
BEGIN:STANDARD
DTSTART:20181028T030000
TZOFFSETFROM:+0200
TZOFFSETTO:+0100
TZNAME:CET
END:STANDARD
BEGIN:DAYLIGHT
DTSTART:20180325T020000
TZOFFSETFROM:+0100
TZOFFSETTO:+0200
TZNAME:CEST
END:DAYLIGHT
END:VTIMEZONE
BEGIN:VEVENT
UID:4srgqr5qgigpditdkkrgspj30i@google.com
DTSTAMP:20180701T035254Z
CATEGORIES:
CONTACT:
DESCRIPTION:Spectacle de théâtre d’improvisation à la Jehanne à Metz\, oùle
  Bordel présente des idées de concept les plus époustouflante (ou non\, dè
 sfois c’est juste bon\, et c’est bien aussi quand c’est bon) ou nousprendr
 ons des risques pour voussurprendre et encore plus nous surprendre nous-mê
 me.\nEntrée gratuite et sorti au chapeau\n\nplus de renseignement sur la p
 age facebook du « Le bordel – impro metz »\nou sur notre mail lebordel.imp
 ro@gmail.com
DTSTART;TZID=Europe/Luxembourg:20180419T203000
DTEND;TZID=Europe/Luxembourg:20180419T223000
LOCATION:La Jehanne\, 2 bis\, place Jeanne d'Arc\, 57000 Metz\, France
SEQUENCE:0
SUMMARY:Le Bordel – Spectacle d’impro à la Jehanne
URL:https://fli.lu/evenement/le-bordel-spectacle-dimpro-a-la-jehanne/
X-ALT-DESC;FMTTYPE=text/html:<!DOCTYPE HTML PUBLIC '-//W3C//DTD HTML 3.2//E
 N'>\\n<HTML>\\n<HEAD>\\n<TITLE></TITLE>\\n</HEAD>\\n<BODY><p></p>\n<p>Spec
 tacle de théâtre d’improvisation à la Jehanne à Metz\, oùle Bordel présent
 e des idées de concept les plus époustouflante (ou non\, dèsfois c’est jus
 te bon\, et c’est bien aussi quand c’est bon) ou nousprendrons des risques
  pour voussurprendre et encore plus nous surprendre nous-même.</p>\n<p>Ent
 rée gratuite et sorti au chapeau</p>\n<p></p>\n<p>plus de renseignement su
 r la page facebook du « Le bordel – impro metz »</p>\n<p>ou sur notre mail
  <a href='mailto:lebordel.impro@gmail.com?__xts__=' id='u_jsonp_10_2'>lebo
 rdel.impro@gmail.com</a></p>\n</BODY></HTML>
END:VEVENT
END:VCALENDAR
