BEGIN:VCALENDAR
VERSION:2.0
PRODID:-//139.162.187.178//NONSGML kigkonsult.se iCalcreator 2.20//
CALSCALE:GREGORIAN
METHOD:PUBLISH
X-WR-CALNAME:F L I
X-WR-CALDESC:Fédération Luxembourgeoise d’Improvisation
X-FROM-URL:https://fli.lu
X-WR-TIMEZONE:Europe/Luxembourg
BEGIN:VTIMEZONE
TZID:Europe/Luxembourg
X-LIC-LOCATION:Europe/Luxembourg
BEGIN:STANDARD
DTSTART:20181028T030000
TZOFFSETFROM:+0200
TZOFFSETTO:+0100
TZNAME:CET
END:STANDARD
BEGIN:DAYLIGHT
DTSTART:20180325T020000
TZOFFSETFROM:+0100
TZOFFSETTO:+0200
TZNAME:CEST
END:DAYLIGHT
END:VTIMEZONE
BEGIN:VEVENT
UID:4qjj27uh58apd2qf9br5qlding@google.com
DTSTAMP:20180701T035450Z
CATEGORIES:
CONTACT:
DESCRIPTION:L’heure est grave au Manoir : un meurtre ignoble a eu lieu. Et 
 comme les inspecteurs tardent à arriver\, c’est à toi\, Public\, que revie
 nt la tâche d’identifier le coupable ! \n    Tout au long du spectacle\, l
 es suspects-improvisateurs joueront des scènes se déroulant avant\, après 
 et même pendant le meurtre\, scènes dont toi\, Public\, tu seras à l’origi
 ne.\n    À vous de démêler le vrai du faux et de vous faire une opinion su
 r la véritable identité du tueur !\n    Sortez vos loupes et que l’enquête
  commence !\nhttps://improfestival.jimdo.com/programmation/week-end-21-et-
 22-avril/#dimanche_14h
DTSTART;TZID=Europe/Luxembourg:20180422T140000
DTEND;TZID=Europe/Luxembourg:20180422T150000
LOCATION:47 rue Henri Bazin 54000 Nancy FRANCE
SEQUENCE:0
SUMMARY:FLI à Nancy – Cluedo au Week-end des Tinkers
URL:https://fli.lu/evenement/fli-a-nancy-cluedo-au-week-end-des-tinkers/
X-ALT-DESC;FMTTYPE=text/html:<!DOCTYPE HTML PUBLIC '-//W3C//DTD HTML 3.2//E
 N'>\\n<HTML>\\n<HEAD>\\n<TITLE></TITLE>\\n</HEAD>\\n<BODY><p>    L’heure e
 st grave au Manoir : un meurtre ignoble a eu lieu. Et comme les inspecteur
 s tardent à arriver\, c’est à toi\, Public\, que revient la tâche d’identi
 fier le coupable ! </p>\n<p>    Tout au long du spectacle\, les suspects-i
 mprovisateurs joueront des scènes se déroulant avant\, après et même penda
 nt le meurtre\, scènes dont toi\, Public\, tu seras à l’origine.</p>\n<p> 
    À vous de démêler le vrai du faux et de vous faire une opinion sur la v
 éritable identité du tueur !</p>\n<p>    Sortez vos loupes et que l’enquêt
 e commence !</p>\n<p><a href='https://improfestival.jimdo.com/programmatio
 n/week-end-21-et-22-avril/#dimanche_14h'>https://improfestival.jimdo.com/p
 rogrammation/week-end-21-et-22-avril/#dimanche_14h</a></p>\n</BODY></HTML>
END:VEVENT
END:VCALENDAR
