BEGIN:VCALENDAR
VERSION:2.0
PRODID:-//139.162.187.178//NONSGML kigkonsult.se iCalcreator 2.20//
CALSCALE:GREGORIAN
METHOD:PUBLISH
X-WR-CALNAME:F L I
X-WR-CALDESC:Fédération Luxembourgeoise d’Improvisation
X-FROM-URL:https://fli.lu
X-WR-TIMEZONE:Europe/Luxembourg
BEGIN:VTIMEZONE
TZID:Europe/Luxembourg
X-LIC-LOCATION:Europe/Luxembourg
BEGIN:STANDARD
DTSTART:20181028T030000
TZOFFSETFROM:+0200
TZOFFSETTO:+0100
TZNAME:CET
END:STANDARD
BEGIN:DAYLIGHT
DTSTART:20180325T020000
TZOFFSETFROM:+0100
TZOFFSETTO:+0200
TZNAME:CEST
END:DAYLIGHT
END:VTIMEZONE
BEGIN:VEVENT
UID:4gek5h4mshd1kv2si5d1ckpvqt@google.com
DTSTAMP:20180701T033408Z
CATEGORIES:
CONTACT:
DESCRIPTION:<p>Ouvert à tous!</p>
DTSTART;TZID=Europe/Luxembourg:20180701T113000
DTEND;TZID=Europe/Luxembourg:20180701T180000
LOCATION:472 Route de Thionville\, 5886 Hesperange\, Luxembourg
SEQUENCE:0
SUMMARY:PIC-NIC de l’impro
URL:https://fli.lu/evenement/pic-nic-de-limpro/
END:VEVENT
END:VCALENDAR
