BEGIN:VCALENDAR
VERSION:2.0
PRODID:-//139.162.187.178//NONSGML kigkonsult.se iCalcreator 2.20//
CALSCALE:GREGORIAN
METHOD:PUBLISH
X-WR-CALNAME:F L I
X-WR-CALDESC:Fédération Luxembourgeoise d’Improvisation
X-FROM-URL:https://fli.lu
X-WR-TIMEZONE:Europe/Luxembourg
BEGIN:VTIMEZONE
TZID:Europe/Luxembourg
X-LIC-LOCATION:Europe/Luxembourg
BEGIN:STANDARD
DTSTART:20181028T030000
TZOFFSETFROM:+0200
TZOFFSETTO:+0100
TZNAME:CET
END:STANDARD
BEGIN:DAYLIGHT
DTSTART:20180325T020000
TZOFFSETFROM:+0100
TZOFFSETTO:+0200
TZNAME:CEST
END:DAYLIGHT
END:VTIMEZONE
BEGIN:VEVENT
UID:1ipedk4t0kk0clkpi2uq8habdv@google.com
DTSTAMP:20180701T035842Z
CATEGORIES:
CONTACT:
DESCRIPTION:Le Luxembourg étant le pays précurseur à la pointe de l’innovat
 ion\, la Petite Troupe d’A Coté dans une optique d’intégration au Grand-Du
 ché vient de créer son premier incubateur de Startups.\nL’espace d’une soi
 rée\, vous allez découvrir 5 nouveaux entrepreneurs venus de tout horizon 
 et qui ont été sélectionnés pour leurs idées innovantes !\nMais bien enten
 du\, ces idées\, ils vont les découvrir sur scène en même temps que vous !
 !!\nLes improvisateurs visionnaires vont devoir incarner leur startup au m
 aximum pour vous convaincre de miser sur leur projet… Car c’est à vous pub
 lic\, que reviendra le choix de décider lequel de ces projets doit voir le
  jour !\nL’entrée est libre\, sortie au chapeau. \nRéservations : resa@pet
 aco.lu
DTSTART;TZID=Europe/Luxembourg:20180619T203000
DTEND;TZID=Europe/Luxembourg:20180619T230000
LOCATION:De Gudde Wëllen\, 17 Rue du St Esprit\, 1475 Luxembourg
SEQUENCE:0
SUMMARY:PETACO – Start-up! Dernier spectacle de la saison
URL:https://fli.lu/evenement/petaco-start-up-dernier-spectacle-de-la-saison
 /
X-ALT-DESC;FMTTYPE=text/html:<!DOCTYPE HTML PUBLIC '-//W3C//DTD HTML 3.2//E
 N'>\\n<HTML>\\n<HEAD>\\n<TITLE></TITLE>\\n</HEAD>\\n<BODY><p>Le Luxembourg
  étant le pays précurseur à la pointe de l’innovation\, la Petite Troupe d
 ’A Coté dans une optique d’intégration au Grand-Duché vient de créer son p
 remier incubateur de Startups.</p>\n<p>L’espace d’une soirée\, vous allez 
 découvrir 5 nouveaux entrepreneurs venus de tout horizon et qui ont été sé
 lectionnés pour leurs idées innovantes !</p>\n<p>Mais bien entendu\, ces i
 dées\, ils vont les découvrir sur scène en même temps que vous !!!</p>\n<p
 >Les improvisateurs visionnaires vont devoir incarner leur startup au maxi
 mum pour vous convaincre de miser sur leur projet… Car c’est à vous public
 \, que reviendra le choix de décider lequel de ces projets doit voir le jo
 ur !</p>\n<p>L’entrée est libre\, sortie au chapeau. </p>\n<p>Réservations
  : resa@petaco.lu</p>\n</BODY></HTML>
END:VEVENT
END:VCALENDAR
