BEGIN:VCALENDAR
VERSION:2.0
PRODID:-//139.162.187.178//NONSGML kigkonsult.se iCalcreator 2.20//
CALSCALE:GREGORIAN
METHOD:PUBLISH
X-WR-CALNAME:F L I
X-WR-CALDESC:Fédération Luxembourgeoise d’Improvisation
X-FROM-URL:https://fli.lu
X-WR-TIMEZONE:Europe/Luxembourg
BEGIN:VTIMEZONE
TZID:Europe/Luxembourg
X-LIC-LOCATION:Europe/Luxembourg
BEGIN:STANDARD
DTSTART:20181028T030000
TZOFFSETFROM:+0200
TZOFFSETTO:+0100
TZNAME:CET
END:STANDARD
BEGIN:DAYLIGHT
DTSTART:20180325T020000
TZOFFSETFROM:+0100
TZOFFSETTO:+0200
TZNAME:CEST
END:DAYLIGHT
END:VTIMEZONE
BEGIN:VEVENT
UID:7d0jdfvlnuqc08pi6j30uc8b66@google.com
DTSTAMP:20180701T033233Z
CATEGORIES:
CONTACT:
DESCRIPTION:Grek et Céline vous attendent au « schwaarzt Haus » pour créer 
 une pièce de théâtre éphémère sous vos yeux. S’inspirant de l’esprit de ce
 tte mystérieuse pop-up art gallery\, ils vous invitent à embarquer dans un
 e expérience entre paraître et intime\, public et privé\, bienséance et tr
 ash. Venez vivre cette expérience inédite et découvrez ce qui se cache der
 rière la façade de chaque personnage. \nLe spectacle débutera vers 21h et 
 durera +/- 1h mais nous vous invitons à venir un peu plus tôt pour découvr
 ir ce lieu atypique avant le spectacle. \nL’entrée est gratuite (un chapea
 u sera placé à la sortie). \nRéservations conseillées par mail : recklessl
 ux@gmail.com\nhttps://www.facebook.com/events/1911460232211524/?active_tab
 =about
DTSTART;TZID=Europe/Luxembourg:20180630T203000
DTEND;TZID=Europe/Luxembourg:20180630T223000
LOCATION:56 Rue de la Semois\, 2533 Luxembourg
SEQUENCE:0
SUMMARY:RECKLESS – DUO ÉPHÉMÈRE DANS UN LIEU INSOLITE
URL:https://fli.lu/evenement/reckless-duo-ephemere-dans-un-lieu-insolite/
X-ALT-DESC;FMTTYPE=text/html:<!DOCTYPE HTML PUBLIC '-//W3C//DTD HTML 3.2//E
 N'>\\n<HTML>\\n<HEAD>\\n<TITLE></TITLE>\\n</HEAD>\\n<BODY><p>Grek et Célin
 e vous attendent au « schwaarzt Haus » pour créer une pièce de théâtre éph
 émère sous vos yeux. S’inspirant de l’esprit de cette mystérieuse pop-up a
 rt gallery\, ils vous invitent à embarquer dans une expérience entre paraî
 tre et intime\, public et privé\, bienséance et trash. Venez vivre cette e
 xpérience inédite et découvrez ce qui se cache derrière la façade de chaqu
 e personnage. </p>\n<p>Le spectacle débutera vers 21h et durera +/- 1h mai
 s nous vous invitons à venir un peu plus tôt pour découvrir ce lieu atypiq
 ue avant le spectacle. </p>\n<p>L’entrée est gratuite (un chapeau sera pla
 cé à la sortie). </p>\n<p>Réservations conseillées par mail : recklesslux@
 gmail.com</p>\n<p>https://www.facebook.com/events/1911460232211524/?active
 _tab=about</p>\n</BODY></HTML>
END:VEVENT
END:VCALENDAR
